BEGIN:VCALENDAR
VERSION:2.0
PRODID:-//Atchison Public Library - ECPv6.15.20//NONSGML v1.0//EN
CALSCALE:GREGORIAN
METHOD:PUBLISH
X-ORIGINAL-URL:https://www.atchisonlibrary.org
X-WR-CALDESC:Events for Atchison Public Library
REFRESH-INTERVAL;VALUE=DURATION:PT1H
X-Robots-Tag:noindex
X-PUBLISHED-TTL:PT1H
BEGIN:VTIMEZONE
TZID:America/Chicago
BEGIN:DAYLIGHT
TZOFFSETFROM:-0600
TZOFFSETTO:-0500
TZNAME:CDT
DTSTART:20240310T080000
END:DAYLIGHT
BEGIN:STANDARD
TZOFFSETFROM:-0500
TZOFFSETTO:-0600
TZNAME:CST
DTSTART:20241103T070000
END:STANDARD
BEGIN:DAYLIGHT
TZOFFSETFROM:-0600
TZOFFSETTO:-0500
TZNAME:CDT
DTSTART:20250309T080000
END:DAYLIGHT
BEGIN:STANDARD
TZOFFSETFROM:-0500
TZOFFSETTO:-0600
TZNAME:CST
DTSTART:20251102T070000
END:STANDARD
BEGIN:DAYLIGHT
TZOFFSETFROM:-0600
TZOFFSETTO:-0500
TZNAME:CDT
DTSTART:20260308T080000
END:DAYLIGHT
BEGIN:STANDARD
TZOFFSETFROM:-0500
TZOFFSETTO:-0600
TZNAME:CST
DTSTART:20261101T070000
END:STANDARD
END:VTIMEZONE
BEGIN:VEVENT
DTSTART;TZID=America/Chicago:20250506T100000
DTEND;TZID=America/Chicago:20250506T120000
DTSTAMP:20260423T191532
CREATED:20240423T013013Z
LAST-MODIFIED:20250418T170517Z
UID:325-1746525600-1746532800@www.atchisonlibrary.org
SUMMARY:Genealogy Meets For Assistance
DESCRIPTION:Connect with members of our Genealogy Team for assistance.
URL:https://www.atchisonlibrary.org/event/genealogy-meets-for-assistance-55/
LOCATION:401 Kansas Ave\, Atchison\, KS\, United States
CATEGORIES:Atchison Library
END:VEVENT
BEGIN:VEVENT
DTSTART;TZID=America/Chicago:20250429T100000
DTEND;TZID=America/Chicago:20250429T120000
DTSTAMP:20260423T191532
CREATED:20240423T013013Z
LAST-MODIFIED:20250418T170517Z
UID:324-1745920800-1745928000@www.atchisonlibrary.org
SUMMARY:Genealogy Meets For Assistance
DESCRIPTION:Connect with members of our Genealogy Team for assistance.
URL:https://www.atchisonlibrary.org/event/genealogy-meets-for-assistance-54/
LOCATION:401 Kansas Ave\, Atchison\, KS\, United States
CATEGORIES:Atchison Library
END:VEVENT
BEGIN:VEVENT
DTSTART;TZID=America/Chicago:20250428T190000
DTEND;TZID=America/Chicago:20250428T200000
DTSTAMP:20260423T191532
CREATED:20240411T205259Z
LAST-MODIFIED:20240422T004548Z
UID:184-1745866800-1745870400@www.atchisonlibrary.org
SUMMARY:Atchison Public Library Board Meeting
DESCRIPTION:Atchison Public Library Board of Directors meets every Fourth Monday of each month. This meeting is open to the public.
URL:https://www.atchisonlibrary.org/event/atchison-public-library-board-meeting-13/
LOCATION:401 Kansas Ave\, Atchison\, KS 66002\, USA
CATEGORIES:Atchison Library
END:VEVENT
BEGIN:VEVENT
DTSTART;TZID=America/Chicago:20250428T180000
DTEND;TZID=America/Chicago:20250428T190000
DTSTAMP:20260423T191532
CREATED:20240423T013013Z
LAST-MODIFIED:20250418T170517Z
UID:323-1745863200-1745866800@www.atchisonlibrary.org
SUMMARY:Atchison Public Library Board Meeting
DESCRIPTION:Atchison Public Library Board of Directors meets every Fourth Monday of each month. This meeting is open to the public.
URL:https://www.atchisonlibrary.org/event/atchison-public-library-board-meeting-36/
LOCATION:401 Kansas Ave\, Atchison\, KS\, United States
CATEGORIES:Atchison Library
END:VEVENT
BEGIN:VEVENT
DTSTART;TZID=America/Chicago:20250422T100000
DTEND;TZID=America/Chicago:20250422T120000
DTSTAMP:20260423T191532
CREATED:20240423T013013Z
LAST-MODIFIED:20250418T170517Z
UID:322-1745316000-1745323200@www.atchisonlibrary.org
SUMMARY:Genealogy Meets For Assistance
DESCRIPTION:Connect with members of our Genealogy Team for assistance.
URL:https://www.atchisonlibrary.org/event/genealogy-meets-for-assistance-53/
LOCATION:401 Kansas Ave\, Atchison\, KS\, United States
CATEGORIES:Atchison Library
END:VEVENT
BEGIN:VEVENT
DTSTART;TZID=America/Chicago:20250415T100000
DTEND;TZID=America/Chicago:20250415T120000
DTSTAMP:20260423T191532
CREATED:20240423T013013Z
LAST-MODIFIED:20250414T170528Z
UID:321-1744711200-1744718400@www.atchisonlibrary.org
SUMMARY:Genealogy Meets For Assistance
DESCRIPTION:Connect with members of our Genealogy Team for assistance.
URL:https://www.atchisonlibrary.org/event/genealogy-meets-for-assistance-52/
LOCATION:401 Kansas Ave\, Atchison\, KS\, United States
CATEGORIES:Atchison Library
END:VEVENT
BEGIN:VEVENT
DTSTART;TZID=America/Chicago:20250408T100000
DTEND;TZID=America/Chicago:20250408T120000
DTSTAMP:20260423T191532
CREATED:20240423T013013Z
LAST-MODIFIED:20250408T163532Z
UID:320-1744106400-1744113600@www.atchisonlibrary.org
SUMMARY:Genealogy Meets For Assistance
DESCRIPTION:Connect with members of our Genealogy Team for assistance.
URL:https://www.atchisonlibrary.org/event/genealogy-meets-for-assistance-51/
LOCATION:401 Kansas Ave\, Atchison\, KS\, United States
CATEGORIES:Atchison Library
END:VEVENT
BEGIN:VEVENT
DTSTART;TZID=America/Chicago:20250401T100000
DTEND;TZID=America/Chicago:20250401T120000
DTSTAMP:20260423T191532
CREATED:20240423T013013Z
LAST-MODIFIED:20250331T235014Z
UID:319-1743501600-1743508800@www.atchisonlibrary.org
SUMMARY:Genealogy Meets For Assistance
DESCRIPTION:Connect with members of our Genealogy Team for assistance.
URL:https://www.atchisonlibrary.org/event/genealogy-meets-for-assistance-50/
LOCATION:401 Kansas Ave\, Atchison\, KS\, United States
CATEGORIES:Atchison Library
END:VEVENT
BEGIN:VEVENT
DTSTART;TZID=America/Chicago:20250401T100000
DTEND;TZID=America/Chicago:20250401T113000
DTSTAMP:20260423T191532
CREATED:20240508T211817Z
LAST-MODIFIED:20240508T211817Z
UID:905-1743501600-1743507000@www.atchisonlibrary.org
SUMMARY:Knitting Group
DESCRIPTION:Bring your yarn art\, any kind\, and chat with like minded crafters.
URL:https://www.atchisonlibrary.org/event/knitting-group-47/
END:VEVENT
BEGIN:VEVENT
DTSTART;TZID=America/Chicago:20250327T180000
DTEND;TZID=America/Chicago:20250327T193000
DTSTAMP:20260423T191532
CREATED:20240508T211816Z
LAST-MODIFIED:20240508T211816Z
UID:904-1743098400-1743103800@www.atchisonlibrary.org
SUMMARY:Open Mic Night
DESCRIPTION:
URL:https://www.atchisonlibrary.org/event/open-mic-night-11/
END:VEVENT
BEGIN:VEVENT
DTSTART;TZID=America/Chicago:20250326T180000
DTEND;TZID=America/Chicago:20250326T190000
DTSTAMP:20260423T191532
CREATED:20240508T211816Z
LAST-MODIFIED:20240508T211816Z
UID:902-1743012000-1743015600@www.atchisonlibrary.org
SUMMARY:Courage to Change (KS RM)
DESCRIPTION:Janie Handke and Mary Webb\n913-370-0589 (Janie)
URL:https://www.atchisonlibrary.org/event/courage-to-change-ks-rm-47/
END:VEVENT
BEGIN:VEVENT
DTSTART;TZID=America/Chicago:20250325T100000
DTEND;TZID=America/Chicago:20250325T120000
DTSTAMP:20260423T191532
CREATED:20240508T211816Z
LAST-MODIFIED:20240508T211816Z
UID:900-1742896800-1742904000@www.atchisonlibrary.org
SUMMARY:Genealogy Board meeting (KS RM)
DESCRIPTION:
URL:https://www.atchisonlibrary.org/event/genealogy-board-meeting-ks-rm-11/
END:VEVENT
BEGIN:VEVENT
DTSTART;TZID=America/Chicago:20250325T100000
DTEND;TZID=America/Chicago:20250325T120000
DTSTAMP:20260423T191532
CREATED:20240508T211816Z
LAST-MODIFIED:20240508T211816Z
UID:901-1742896800-1742904000@www.atchisonlibrary.org
SUMMARY:Genealogy Help in Kansas Room
DESCRIPTION:Members of the Atchison County Kansas Genealogical Society will be in the Kansas Room with an open door for anyone needing genealogical research assistance. Come on in and ask them about the local history and the records we have on our community.
URL:https://www.atchisonlibrary.org/event/genealogy-help-in-kansas-room-46/
END:VEVENT
BEGIN:VEVENT
DTSTART;TZID=America/Chicago:20250325T100000
DTEND;TZID=America/Chicago:20250325T120000
DTSTAMP:20260423T191532
CREATED:20240423T013013Z
LAST-MODIFIED:20250324T235149Z
UID:318-1742896800-1742904000@www.atchisonlibrary.org
SUMMARY:Genealogy Meets For Assistance
DESCRIPTION:Connect with members of our Genealogy Team for assistance.
URL:https://www.atchisonlibrary.org/event/genealogy-meets-for-assistance-49/
LOCATION:401 Kansas Ave\, Atchison\, KS\, United States
CATEGORIES:Atchison Library
END:VEVENT
BEGIN:VEVENT
DTSTART;TZID=America/Chicago:20250325T100000
DTEND;TZID=America/Chicago:20250325T113000
DTSTAMP:20260423T191532
CREATED:20240508T211816Z
LAST-MODIFIED:20240508T211816Z
UID:899-1742896800-1742902200@www.atchisonlibrary.org
SUMMARY:Knitting Group
DESCRIPTION:Bring your yarn art\, any kind\, and chat with like minded crafters.
URL:https://www.atchisonlibrary.org/event/knitting-group-46/
END:VEVENT
BEGIN:VEVENT
DTSTART;TZID=America/Chicago:20250324T190000
DTEND;TZID=America/Chicago:20250324T200000
DTSTAMP:20260423T191532
CREATED:20240411T205259Z
LAST-MODIFIED:20240422T004548Z
UID:183-1742842800-1742846400@www.atchisonlibrary.org
SUMMARY:Atchison Public Library Board Meeting
DESCRIPTION:Atchison Public Library Board of Directors meets every Fourth Monday of each month. This meeting is open to the public.
URL:https://www.atchisonlibrary.org/event/atchison-public-library-board-meeting-12/
LOCATION:401 Kansas Ave\, Atchison\, KS 66002\, USA
CATEGORIES:Atchison Library
END:VEVENT
BEGIN:VEVENT
DTSTART;TZID=America/Chicago:20250324T180000
DTEND;TZID=America/Chicago:20250324T190000
DTSTAMP:20260423T191532
CREATED:20240508T211816Z
LAST-MODIFIED:20240508T211816Z
UID:898-1742839200-1742842800@www.atchisonlibrary.org
SUMMARY:Library Board Meeting
DESCRIPTION:
URL:https://www.atchisonlibrary.org/event/library-board-meeting-11/
END:VEVENT
BEGIN:VEVENT
DTSTART;TZID=America/Chicago:20250324T180000
DTEND;TZID=America/Chicago:20250324T190000
DTSTAMP:20260423T191532
CREATED:20240423T013013Z
LAST-MODIFIED:20250324T235149Z
UID:317-1742839200-1742842800@www.atchisonlibrary.org
SUMMARY:Atchison Public Library Board Meeting
DESCRIPTION:Atchison Public Library Board of Directors meets every Fourth Monday of each month. This meeting is open to the public.
URL:https://www.atchisonlibrary.org/event/atchison-public-library-board-meeting-35/
LOCATION:401 Kansas Ave\, Atchison\, KS\, United States
CATEGORIES:Atchison Library
END:VEVENT
BEGIN:VEVENT
DTSTART;TZID=America/Chicago:20250320T173000
DTEND;TZID=America/Chicago:20250320T193000
DTSTAMP:20260423T191532
CREATED:20240508T211816Z
LAST-MODIFIED:20240508T211816Z
UID:897-1742491800-1742499000@www.atchisonlibrary.org
SUMMARY:Mary craft night
DESCRIPTION:
URL:https://www.atchisonlibrary.org/event/mary-craft-night-11/
END:VEVENT
BEGIN:VEVENT
DTSTART;TZID=America/Chicago:20250320T143000
DTEND;TZID=America/Chicago:20250320T153000
DTSTAMP:20260423T191532
CREATED:20240508T211816Z
LAST-MODIFIED:20240508T211816Z
UID:896-1742481000-1742484600@www.atchisonlibrary.org
SUMMARY:Jake LaTurner rep (KS RM)
DESCRIPTION:
URL:https://www.atchisonlibrary.org/event/jake-laturner-rep-ks-rm-11/
END:VEVENT
BEGIN:VEVENT
DTSTART;TZID=America/Chicago:20250319T180000
DTEND;TZID=America/Chicago:20250319T190000
DTSTAMP:20260423T191532
CREATED:20240508T211816Z
LAST-MODIFIED:20240508T211816Z
UID:894-1742407200-1742410800@www.atchisonlibrary.org
SUMMARY:Courage to Change (KS RM)
DESCRIPTION:Janie Handke and Mary Webb\n913-370-0589 (Janie)
URL:https://www.atchisonlibrary.org/event/courage-to-change-ks-rm-46/
END:VEVENT
BEGIN:VEVENT
DTSTART;TZID=America/Chicago:20250318T100000
DTEND;TZID=America/Chicago:20250318T120000
DTSTAMP:20260423T191532
CREATED:20240508T211816Z
LAST-MODIFIED:20240508T211816Z
UID:892-1742292000-1742299200@www.atchisonlibrary.org
SUMMARY:Genealogy Help in Kansas Room
DESCRIPTION:Members of the Atchison County Kansas Genealogical Society will be in the Kansas Room with an open door for anyone needing genealogical research assistance. Come on in and ask them about the local history and the records we have on our community.
URL:https://www.atchisonlibrary.org/event/genealogy-help-in-kansas-room-45/
END:VEVENT
BEGIN:VEVENT
DTSTART;TZID=America/Chicago:20250318T100000
DTEND;TZID=America/Chicago:20250318T120000
DTSTAMP:20260423T191532
CREATED:20240423T013013Z
LAST-MODIFIED:20250317T235012Z
UID:316-1742292000-1742299200@www.atchisonlibrary.org
SUMMARY:Genealogy Meets For Assistance
DESCRIPTION:Connect with members of our Genealogy Team for assistance.
URL:https://www.atchisonlibrary.org/event/genealogy-meets-for-assistance-48/
LOCATION:401 Kansas Ave\, Atchison\, KS\, United States
CATEGORIES:Atchison Library
END:VEVENT
BEGIN:VEVENT
DTSTART;TZID=America/Chicago:20250318T100000
DTEND;TZID=America/Chicago:20250318T113000
DTSTAMP:20260423T191532
CREATED:20240508T211816Z
LAST-MODIFIED:20240508T211816Z
UID:893-1742292000-1742297400@www.atchisonlibrary.org
SUMMARY:Knitting Group
DESCRIPTION:Bring your yarn art\, any kind\, and chat with like minded crafters.
URL:https://www.atchisonlibrary.org/event/knitting-group-45/
END:VEVENT
BEGIN:VEVENT
DTSTART;TZID=America/Chicago:20250313T180000
DTEND;TZID=America/Chicago:20250313T190000
DTSTAMP:20260423T191532
CREATED:20240508T211816Z
LAST-MODIFIED:20240508T211816Z
UID:891-1741888800-1741892400@www.atchisonlibrary.org
SUMMARY:Library Book Club
DESCRIPTION:
URL:https://www.atchisonlibrary.org/event/library-book-club-11/
END:VEVENT
BEGIN:VEVENT
DTSTART;TZID=America/Chicago:20250312T180000
DTEND;TZID=America/Chicago:20250312T190000
DTSTAMP:20260423T191532
CREATED:20240508T211816Z
LAST-MODIFIED:20240508T211816Z
UID:889-1741802400-1741806000@www.atchisonlibrary.org
SUMMARY:Courage to Change (KS RM)
DESCRIPTION:Janie Handke and Mary Webb\n913-370-0589 (Janie)
URL:https://www.atchisonlibrary.org/event/courage-to-change-ks-rm-45/
END:VEVENT
BEGIN:VEVENT
DTSTART;TZID=America/Chicago:20250311T123000
DTEND;TZID=America/Chicago:20250311T150000
DTSTAMP:20260423T191532
CREATED:20240508T211816Z
LAST-MODIFIED:20240508T211816Z
UID:888-1741696200-1741705200@www.atchisonlibrary.org
SUMMARY:Midday Movie
DESCRIPTION:Mary program
URL:https://www.atchisonlibrary.org/event/midday-movie-10/
END:VEVENT
BEGIN:VEVENT
DTSTART;TZID=America/Chicago:20250311T100000
DTEND;TZID=America/Chicago:20250311T120000
DTSTAMP:20260423T191532
CREATED:20240508T211816Z
LAST-MODIFIED:20240508T211816Z
UID:887-1741687200-1741694400@www.atchisonlibrary.org
SUMMARY:Genealogy Help in Kansas Room
DESCRIPTION:Members of the Atchison County Kansas Genealogical Society will be in the Kansas Room with an open door for anyone needing genealogical research assistance. Come on in and ask them about the local history and the records we have on our community.
URL:https://www.atchisonlibrary.org/event/genealogy-help-in-kansas-room-44/
END:VEVENT
BEGIN:VEVENT
DTSTART;TZID=America/Chicago:20250311T100000
DTEND;TZID=America/Chicago:20250311T120000
DTSTAMP:20260423T191532
CREATED:20240423T013013Z
LAST-MODIFIED:20250310T233513Z
UID:315-1741687200-1741694400@www.atchisonlibrary.org
SUMMARY:Genealogy Meets For Assistance
DESCRIPTION:Connect with members of our Genealogy Team for assistance.
URL:https://www.atchisonlibrary.org/event/genealogy-meets-for-assistance-47/
LOCATION:401 Kansas Ave\, Atchison\, KS\, United States
CATEGORIES:Atchison Library
END:VEVENT
BEGIN:VEVENT
DTSTART;TZID=America/Chicago:20250311T100000
DTEND;TZID=America/Chicago:20250311T113000
DTSTAMP:20260423T191532
CREATED:20240508T211815Z
LAST-MODIFIED:20240508T211815Z
UID:886-1741687200-1741692600@www.atchisonlibrary.org
SUMMARY:Knitting Group
DESCRIPTION:Bring your yarn art\, any kind\, and chat with like minded crafters.
URL:https://www.atchisonlibrary.org/event/knitting-group-44/
END:VEVENT
END:VCALENDAR