BEGIN:VCALENDAR
VERSION:2.0
PRODID:-//Atchison Public Library - ECPv6.15.20//NONSGML v1.0//EN
CALSCALE:GREGORIAN
METHOD:PUBLISH
X-ORIGINAL-URL:https://www.atchisonlibrary.org
X-WR-CALDESC:Events for Atchison Public Library
REFRESH-INTERVAL;VALUE=DURATION:PT1H
X-Robots-Tag:noindex
X-PUBLISHED-TTL:PT1H
BEGIN:VTIMEZONE
TZID:America/Chicago
BEGIN:DAYLIGHT
TZOFFSETFROM:-0600
TZOFFSETTO:-0500
TZNAME:CDT
DTSTART:20260308T080000
END:DAYLIGHT
BEGIN:STANDARD
TZOFFSETFROM:-0500
TZOFFSETTO:-0600
TZNAME:CST
DTSTART:20261101T070000
END:STANDARD
BEGIN:DAYLIGHT
TZOFFSETFROM:-0600
TZOFFSETTO:-0500
TZNAME:CDT
DTSTART:20270314T080000
END:DAYLIGHT
BEGIN:STANDARD
TZOFFSETFROM:-0500
TZOFFSETTO:-0600
TZNAME:CST
DTSTART:20271107T070000
END:STANDARD
BEGIN:DAYLIGHT
TZOFFSETFROM:-0600
TZOFFSETTO:-0500
TZNAME:CDT
DTSTART:20280312T080000
END:DAYLIGHT
BEGIN:STANDARD
TZOFFSETFROM:-0500
TZOFFSETTO:-0600
TZNAME:CST
DTSTART:20281105T070000
END:STANDARD
END:VTIMEZONE
BEGIN:VEVENT
DTSTART;TZID=America/Chicago:20270330T100000
DTEND;TZID=America/Chicago:20270330T120000
DTSTAMP:20260423T191328
CREATED:20250330T235056Z
LAST-MODIFIED:20250418T170526Z
UID:2929-1806400800-1806408000@www.atchisonlibrary.org
SUMMARY:Genealogy Meets For Assistance
DESCRIPTION:Connect with members of our Genealogy Team for assistance.
URL:https://www.atchisonlibrary.org/event/genealogy-meets-for-assistance-154/
LOCATION:401 Kansas Ave\, Atchison\, KS\, United States
CATEGORIES:Atchison Library
END:VEVENT
BEGIN:VEVENT
DTSTART;TZID=America/Chicago:20270406T100000
DTEND;TZID=America/Chicago:20270406T120000
DTSTAMP:20260423T191329
CREATED:20250406T162222Z
LAST-MODIFIED:20250418T170526Z
UID:2958-1807005600-1807012800@www.atchisonlibrary.org
SUMMARY:Genealogy Meets For Assistance
DESCRIPTION:Connect with members of our Genealogy Team for assistance.
URL:https://www.atchisonlibrary.org/event/genealogy-meets-for-assistance-155/
LOCATION:401 Kansas Ave\, Atchison\, KS\, United States
CATEGORIES:Atchison Library
END:VEVENT
BEGIN:VEVENT
DTSTART;TZID=America/Chicago:20270413T100000
DTEND;TZID=America/Chicago:20270413T120000
DTSTAMP:20260423T191329
CREATED:20250413T165131Z
LAST-MODIFIED:20250418T170527Z
UID:2992-1807610400-1807617600@www.atchisonlibrary.org
SUMMARY:Genealogy Meets For Assistance
DESCRIPTION:Connect with members of our Genealogy Team for assistance.
URL:https://www.atchisonlibrary.org/event/genealogy-meets-for-assistance-156/
LOCATION:401 Kansas Ave\, Atchison\, KS\, United States
CATEGORIES:Atchison Library
END:VEVENT
END:VCALENDAR