BEGIN:VCALENDAR
VERSION:2.0
PRODID:-//Atchison Public Library - ECPv6.15.20//NONSGML v1.0//EN
CALSCALE:GREGORIAN
METHOD:PUBLISH
X-WR-CALNAME:Atchison Public Library
X-ORIGINAL-URL:https://www.atchisonlibrary.org
X-WR-CALDESC:Events for Atchison Public Library
REFRESH-INTERVAL;VALUE=DURATION:PT1H
X-Robots-Tag:noindex
X-PUBLISHED-TTL:PT1H
BEGIN:VTIMEZONE
TZID:America/Chicago
BEGIN:DAYLIGHT
TZOFFSETFROM:-0600
TZOFFSETTO:-0500
TZNAME:CDT
DTSTART:20230312T080000
END:DAYLIGHT
BEGIN:STANDARD
TZOFFSETFROM:-0500
TZOFFSETTO:-0600
TZNAME:CST
DTSTART:20231105T070000
END:STANDARD
BEGIN:DAYLIGHT
TZOFFSETFROM:-0600
TZOFFSETTO:-0500
TZNAME:CDT
DTSTART:20240310T080000
END:DAYLIGHT
BEGIN:STANDARD
TZOFFSETFROM:-0500
TZOFFSETTO:-0600
TZNAME:CST
DTSTART:20241103T070000
END:STANDARD
BEGIN:DAYLIGHT
TZOFFSETFROM:-0600
TZOFFSETTO:-0500
TZNAME:CDT
DTSTART:20250309T080000
END:DAYLIGHT
BEGIN:STANDARD
TZOFFSETFROM:-0500
TZOFFSETTO:-0600
TZNAME:CST
DTSTART:20251102T070000
END:STANDARD
END:VTIMEZONE
BEGIN:VEVENT
DTSTART;TZID=America/Chicago:20240625T100000
DTEND;TZID=America/Chicago:20240625T113000
DTSTAMP:20260425T095521
CREATED:20240508T211805Z
LAST-MODIFIED:20240508T211805Z
UID:648-1719309600-1719315000@www.atchisonlibrary.org
SUMMARY:Knitting Group
DESCRIPTION:Bring your yarn art\, any kind\, and chat with like minded crafters.
URL:https://www.atchisonlibrary.org/event/knitting-group-7/
LOCATION:KS
END:VEVENT
BEGIN:VEVENT
DTSTART;TZID=America/Chicago:20240624T190000
DTEND;TZID=America/Chicago:20240624T200000
DTSTAMP:20260425T095521
CREATED:20240411T205257Z
LAST-MODIFIED:20240422T004548Z
UID:164-1719255600-1719259200@www.atchisonlibrary.org
SUMMARY:Atchison Public Library Board Meeting
DESCRIPTION:Atchison Public Library Board of Directors meets every Fourth Monday of each month. This meeting is open to the public.
URL:https://www.atchisonlibrary.org/event/atchison-public-library-board-meeting-3/
LOCATION:401 Kansas Ave\, Atchison\, KS 66002\, USA
CATEGORIES:Atchison Library
END:VEVENT
BEGIN:VEVENT
DTSTART;TZID=America/Chicago:20240624T180000
DTEND;TZID=America/Chicago:20240624T193000
DTSTAMP:20260425T095521
CREATED:20240508T211804Z
LAST-MODIFIED:20240508T211804Z
UID:644-1719252000-1719257400@www.atchisonlibrary.org
SUMMARY:YA Trivia Night
DESCRIPTION:
URL:https://www.atchisonlibrary.org/event/ya-trivia-night/
LOCATION:KS
END:VEVENT
BEGIN:VEVENT
DTSTART;TZID=America/Chicago:20240624T180000
DTEND;TZID=America/Chicago:20240624T190000
DTSTAMP:20260425T095521
CREATED:20240508T211804Z
LAST-MODIFIED:20240508T211804Z
UID:645-1719252000-1719255600@www.atchisonlibrary.org
SUMMARY:Library Board Meeting
DESCRIPTION:
URL:https://www.atchisonlibrary.org/event/library-board-meeting-2/
LOCATION:KS
END:VEVENT
BEGIN:VEVENT
DTSTART;TZID=America/Chicago:20240624T180000
DTEND;TZID=America/Chicago:20240624T190000
DTSTAMP:20260425T095521
CREATED:20240423T013010Z
LAST-MODIFIED:20240624T173551Z
UID:269-1719252000-1719255600@www.atchisonlibrary.org
SUMMARY:Atchison Public Library Board Meeting
DESCRIPTION:Atchison Public Library Board of Directors meets every Fourth Monday of each month. This meeting is open to the public.
URL:https://www.atchisonlibrary.org/event/atchison-public-library-board-meeting-26/
LOCATION:401 Kansas Ave\, Atchison\, KS\, United States
CATEGORIES:Atchison Library
END:VEVENT
BEGIN:VEVENT
DTSTART;TZID=America/Chicago:20240621T140000
DTEND;TZID=America/Chicago:20240621T163000
DTSTAMP:20260425T095521
CREATED:20240508T211804Z
LAST-MODIFIED:20240508T211804Z
UID:643-1718978400-1718987400@www.atchisonlibrary.org
SUMMARY:All Ages Bob Ross Paint Along
DESCRIPTION:
URL:https://www.atchisonlibrary.org/event/all-ages-bob-ross-paint-along/
LOCATION:KS
END:VEVENT
BEGIN:VEVENT
DTSTART;TZID=America/Chicago:20240620T173000
DTEND;TZID=America/Chicago:20240620T193000
DTSTAMP:20260425T095521
CREATED:20240508T211804Z
LAST-MODIFIED:20240508T211804Z
UID:642-1718904600-1718911800@www.atchisonlibrary.org
SUMMARY:Mary craft night
DESCRIPTION:
URL:https://www.atchisonlibrary.org/event/mary-craft-night-2/
LOCATION:KS
END:VEVENT
BEGIN:VEVENT
DTSTART;TZID=America/Chicago:20240620T143000
DTEND;TZID=America/Chicago:20240620T153000
DTSTAMP:20260425T095521
CREATED:20240508T211804Z
LAST-MODIFIED:20240508T211804Z
UID:641-1718893800-1718897400@www.atchisonlibrary.org
SUMMARY:Jake LaTurner rep (KS RM)
DESCRIPTION:
URL:https://www.atchisonlibrary.org/event/jake-laturner-rep-ks-rm-2/
LOCATION:KS
END:VEVENT
BEGIN:VEVENT
DTSTART;TZID=America/Chicago:20240619T180000
DTEND;TZID=America/Chicago:20240619T190000
DTSTAMP:20260425T095521
CREATED:20240508T211804Z
LAST-MODIFIED:20240508T211804Z
UID:639-1718820000-1718823600@www.atchisonlibrary.org
SUMMARY:Courage to Change (KS RM)
DESCRIPTION:Janie Handke and Mary Webb\n913-370-0589 (Janie)
URL:https://www.atchisonlibrary.org/event/courage-to-change-ks-rm-7/
LOCATION:KS
END:VEVENT
BEGIN:VEVENT
DTSTART;TZID=America/Chicago:20240618T100000
DTEND;TZID=America/Chicago:20240618T120000
DTSTAMP:20260425T095521
CREATED:20240508T211804Z
LAST-MODIFIED:20240508T211804Z
UID:638-1718704800-1718712000@www.atchisonlibrary.org
SUMMARY:Genealogy Help in Kansas Room
DESCRIPTION:Members of the Atchison County Kansas Genealogical Society will be in the Kansas Room with an open door for anyone needing genealogical research assistance. Come on in and ask them about the local history and the records we have on our community.
URL:https://www.atchisonlibrary.org/event/genealogy-help-in-kansas-room-6/
LOCATION:KS
END:VEVENT
BEGIN:VEVENT
DTSTART;TZID=America/Chicago:20240618T100000
DTEND;TZID=America/Chicago:20240618T120000
DTSTAMP:20260425T095521
CREATED:20240423T013010Z
LAST-MODIFIED:20240617T172008Z
UID:268-1718704800-1718712000@www.atchisonlibrary.org
SUMMARY:Genealogy Meets For Assistance
DESCRIPTION:Connect with members of our Genealogy Team for assistance.
URL:https://www.atchisonlibrary.org/event/genealogy-meets-for-assistance-9/
LOCATION:401 Kansas Ave\, Atchison\, KS\, United States
CATEGORIES:Atchison Library
END:VEVENT
BEGIN:VEVENT
DTSTART;TZID=America/Chicago:20240618T100000
DTEND;TZID=America/Chicago:20240618T113000
DTSTAMP:20260425T095521
CREATED:20240508T211804Z
LAST-MODIFIED:20240508T211804Z
UID:637-1718704800-1718710200@www.atchisonlibrary.org
SUMMARY:Knitting Group
DESCRIPTION:Bring your yarn art\, any kind\, and chat with like minded crafters.
URL:https://www.atchisonlibrary.org/event/knitting-group-6/
LOCATION:KS
END:VEVENT
BEGIN:VEVENT
DTSTART;TZID=America/Chicago:20240613T180000
DTEND;TZID=America/Chicago:20240613T190000
DTSTAMP:20260425T095521
CREATED:20240508T211804Z
LAST-MODIFIED:20240508T211804Z
UID:636-1718301600-1718305200@www.atchisonlibrary.org
SUMMARY:Library Book Club
DESCRIPTION:
URL:https://www.atchisonlibrary.org/event/library-book-club-2/
LOCATION:KS
END:VEVENT
BEGIN:VEVENT
DTSTART;TZID=America/Chicago:20240612T180000
DTEND;TZID=America/Chicago:20240612T190000
DTSTAMP:20260425T095521
CREATED:20240508T211804Z
LAST-MODIFIED:20240508T211804Z
UID:634-1718215200-1718218800@www.atchisonlibrary.org
SUMMARY:Courage to Change (KS RM)
DESCRIPTION:Janie Handke and Mary Webb\n913-370-0589 (Janie)
URL:https://www.atchisonlibrary.org/event/courage-to-change-ks-rm-6/
LOCATION:KS
END:VEVENT
BEGIN:VEVENT
DTSTART;TZID=America/Chicago:20240612T123000
DTEND;TZID=America/Chicago:20240612T140000
DTSTAMP:20260425T095521
CREATED:20240508T211804Z
LAST-MODIFIED:20240508T211804Z
UID:633-1718195400-1718200800@www.atchisonlibrary.org
SUMMARY:Talewise (SRP Program)
DESCRIPTION:
URL:https://www.atchisonlibrary.org/event/talewise-srp-program/
LOCATION:KS
END:VEVENT
BEGIN:VEVENT
DTSTART;TZID=America/Chicago:20240611T123000
DTEND;TZID=America/Chicago:20240611T150000
DTSTAMP:20260425T095521
CREATED:20240508T211804Z
LAST-MODIFIED:20240508T211804Z
UID:632-1718109000-1718118000@www.atchisonlibrary.org
SUMMARY:Midday Movie
DESCRIPTION:Mary program
URL:https://www.atchisonlibrary.org/event/midday-movie/
LOCATION:KS
END:VEVENT
BEGIN:VEVENT
DTSTART;TZID=America/Chicago:20240611T100000
DTEND;TZID=America/Chicago:20240611T120000
DTSTAMP:20260425T095521
CREATED:20240508T211804Z
LAST-MODIFIED:20240508T211804Z
UID:630-1718100000-1718107200@www.atchisonlibrary.org
SUMMARY:Genealogy Help in Kansas Room
DESCRIPTION:Members of the Atchison County Kansas Genealogical Society will be in the Kansas Room with an open door for anyone needing genealogical research assistance. Come on in and ask them about the local history and the records we have on our community.
URL:https://www.atchisonlibrary.org/event/genealogy-help-in-kansas-room-5/
LOCATION:KS
END:VEVENT
BEGIN:VEVENT
DTSTART;TZID=America/Chicago:20240611T100000
DTEND;TZID=America/Chicago:20240611T120000
DTSTAMP:20260425T095521
CREATED:20240423T013010Z
LAST-MODIFIED:20240610T180655Z
UID:263-1718100000-1718107200@www.atchisonlibrary.org
SUMMARY:Genealogy Meets For Assistance
DESCRIPTION:Connect with members of our Genealogy Team for assistance.
URL:https://www.atchisonlibrary.org/event/genealogy-meets-for-assistance-8/
LOCATION:401 Kansas Ave\, Atchison\, KS 66002\, USA
CATEGORIES:Atchison Library
END:VEVENT
BEGIN:VEVENT
DTSTART;TZID=America/Chicago:20240611T100000
DTEND;TZID=America/Chicago:20240611T113000
DTSTAMP:20260425T095521
CREATED:20240508T211804Z
LAST-MODIFIED:20240508T211804Z
UID:631-1718100000-1718105400@www.atchisonlibrary.org
SUMMARY:Knitting Group
DESCRIPTION:Bring your yarn art\, any kind\, and chat with like minded crafters.
URL:https://www.atchisonlibrary.org/event/knitting-group-5/
LOCATION:KS
END:VEVENT
BEGIN:VEVENT
DTSTART;TZID=America/Chicago:20240610T180000
DTEND;TZID=America/Chicago:20240610T193000
DTSTAMP:20260425T095521
CREATED:20240508T211804Z
LAST-MODIFIED:20240508T211804Z
UID:629-1718042400-1718047800@www.atchisonlibrary.org
SUMMARY:YA Create your own craft
DESCRIPTION:
URL:https://www.atchisonlibrary.org/event/ya-create-your-own-craft/
LOCATION:KS
END:VEVENT
BEGIN:VEVENT
DTSTART;TZID=America/Chicago:20240606T180000
DTEND;TZID=America/Chicago:20240606T193000
DTSTAMP:20260425T095521
CREATED:20240508T211804Z
LAST-MODIFIED:20240508T211804Z
UID:628-1717696800-1717702200@www.atchisonlibrary.org
SUMMARY:Mary's Food Freaks
DESCRIPTION:
URL:https://www.atchisonlibrary.org/event/marys-food-freaks/
LOCATION:KS
END:VEVENT
BEGIN:VEVENT
DTSTART;TZID=America/Chicago:20240605T180000
DTEND;TZID=America/Chicago:20240605T190000
DTSTAMP:20260425T095521
CREATED:20240508T211804Z
LAST-MODIFIED:20240508T211804Z
UID:626-1717610400-1717614000@www.atchisonlibrary.org
SUMMARY:Courage to Change (KS RM)
DESCRIPTION:Janie Handke and Mary Webb\n913-370-0589 (Janie)
URL:https://www.atchisonlibrary.org/event/courage-to-change-ks-rm-5/
LOCATION:KS
END:VEVENT
BEGIN:VEVENT
DTSTART;TZID=America/Chicago:20240604T173000
DTEND;TZID=America/Chicago:20240604T190000
DTSTAMP:20260425T095521
CREATED:20240508T211804Z
LAST-MODIFIED:20240508T211804Z
UID:625-1717522200-1717527600@www.atchisonlibrary.org
SUMMARY:Atchison County Kansas Genealogical Society
DESCRIPTION:Once a month\, the ACKGS hosts a genealogy event for the public. Come for speakers\, presentations\, and local history.
URL:https://www.atchisonlibrary.org/event/atchison-county-kansas-genealogical-society/
LOCATION:KS
END:VEVENT
BEGIN:VEVENT
DTSTART;TZID=America/Chicago:20240604T130000
DTEND;TZID=America/Chicago:20240604T140000
DTSTAMP:20260425T095521
CREATED:20240508T211804Z
LAST-MODIFIED:20240508T211804Z
UID:624-1717506000-1717509600@www.atchisonlibrary.org
SUMMARY:Will Stuck (SRP Program)
DESCRIPTION:
URL:https://www.atchisonlibrary.org/event/will-stuck-srp-program/
LOCATION:KS
END:VEVENT
BEGIN:VEVENT
DTSTART;TZID=America/Chicago:20240604T100000
DTEND;TZID=America/Chicago:20240604T120000
DTSTAMP:20260425T095521
CREATED:20240508T211803Z
LAST-MODIFIED:20240508T211803Z
UID:622-1717495200-1717502400@www.atchisonlibrary.org
SUMMARY:Genealogy Help in Kansas Room
DESCRIPTION:Members of the Atchison County Kansas Genealogical Society will be in the Kansas Room with an open door for anyone needing genealogical research assistance. Come on in and ask them about the local history and the records we have on our community.
URL:https://www.atchisonlibrary.org/event/genealogy-help-in-kansas-room-4/
LOCATION:KS
END:VEVENT
BEGIN:VEVENT
DTSTART;TZID=America/Chicago:20240604T100000
DTEND;TZID=America/Chicago:20240604T120000
DTSTAMP:20260425T095521
CREATED:20240423T013010Z
LAST-MODIFIED:20240603T175115Z
UID:260-1717495200-1717502400@www.atchisonlibrary.org
SUMMARY:Genealogy Meets For Assistance
DESCRIPTION:Connect with members of our Genealogy Team for assistance.
URL:https://www.atchisonlibrary.org/event/genealogy-meets-for-assistance-7/
LOCATION:401 Kansas Ave\, Atchison\, KS 66002\, USA
CATEGORIES:Atchison Library
END:VEVENT
BEGIN:VEVENT
DTSTART;TZID=America/Chicago:20240604T100000
DTEND;TZID=America/Chicago:20240604T113000
DTSTAMP:20260425T095521
CREATED:20240508T211804Z
LAST-MODIFIED:20240508T211804Z
UID:623-1717495200-1717500600@www.atchisonlibrary.org
SUMMARY:Knitting Group
DESCRIPTION:Bring your yarn art\, any kind\, and chat with like minded crafters.
URL:https://www.atchisonlibrary.org/event/knitting-group-4/
LOCATION:KS
END:VEVENT
BEGIN:VEVENT
DTSTART;TZID=America/Chicago:20240603T173000
DTEND;TZID=America/Chicago:20240603T193000
DTSTAMP:20260425T095521
CREATED:20240508T211803Z
LAST-MODIFIED:20240508T211803Z
UID:621-1717435800-1717443000@www.atchisonlibrary.org
SUMMARY:YA Game Night
DESCRIPTION:
URL:https://www.atchisonlibrary.org/event/ya-game-night/
LOCATION:KS
END:VEVENT
BEGIN:VEVENT
DTSTART;VALUE=DATE:20240603
DTEND;VALUE=DATE:20240715
DTSTAMP:20260425T095521
CREATED:20240508T211805Z
LAST-MODIFIED:20240508T211805Z
UID:668-1717372800-1721001599@www.atchisonlibrary.org
SUMMARY:SUMMER READING
DESCRIPTION:
URL:https://www.atchisonlibrary.org/event/summer-reading/
LOCATION:KS
END:VEVENT
BEGIN:VEVENT
DTSTART;TZID=America/Chicago:20240529T180000
DTEND;TZID=America/Chicago:20240529T190000
DTSTAMP:20260425T095521
CREATED:20240508T211803Z
LAST-MODIFIED:20240508T211803Z
UID:618-1717005600-1717009200@www.atchisonlibrary.org
SUMMARY:Courage to Change (KS RM)
DESCRIPTION:Janie Handke and Mary Webb\n913-370-0589 (Janie)
URL:https://www.atchisonlibrary.org/event/courage-to-change-ks-rm-4/
LOCATION:KS
END:VEVENT
END:VCALENDAR