BEGIN:VCALENDAR
VERSION:2.0
PRODID:-//Atchison Public Library - ECPv6.15.20//NONSGML v1.0//EN
CALSCALE:GREGORIAN
METHOD:PUBLISH
X-ORIGINAL-URL:https://www.atchisonlibrary.org
X-WR-CALDESC:Events for Atchison Public Library
REFRESH-INTERVAL;VALUE=DURATION:PT1H
X-Robots-Tag:noindex
X-PUBLISHED-TTL:PT1H
BEGIN:VTIMEZONE
TZID:America/Chicago
BEGIN:DAYLIGHT
TZOFFSETFROM:-0600
TZOFFSETTO:-0500
TZNAME:CDT
DTSTART:20250309T080000
END:DAYLIGHT
BEGIN:STANDARD
TZOFFSETFROM:-0500
TZOFFSETTO:-0600
TZNAME:CST
DTSTART:20251102T070000
END:STANDARD
BEGIN:DAYLIGHT
TZOFFSETFROM:-0600
TZOFFSETTO:-0500
TZNAME:CDT
DTSTART:20260308T080000
END:DAYLIGHT
BEGIN:STANDARD
TZOFFSETFROM:-0500
TZOFFSETTO:-0600
TZNAME:CST
DTSTART:20261101T070000
END:STANDARD
BEGIN:DAYLIGHT
TZOFFSETFROM:-0600
TZOFFSETTO:-0500
TZNAME:CDT
DTSTART:20270314T080000
END:DAYLIGHT
BEGIN:STANDARD
TZOFFSETFROM:-0500
TZOFFSETTO:-0600
TZNAME:CST
DTSTART:20271107T070000
END:STANDARD
BEGIN:DAYLIGHT
TZOFFSETFROM:-0600
TZOFFSETTO:-0500
TZNAME:CDT
DTSTART:20280312T080000
END:DAYLIGHT
BEGIN:STANDARD
TZOFFSETFROM:-0500
TZOFFSETTO:-0600
TZNAME:CST
DTSTART:20281105T070000
END:STANDARD
END:VTIMEZONE
BEGIN:VEVENT
DTSTART;TZID=America/Chicago:20260901T100000
DTEND;TZID=America/Chicago:20260901T120000
DTSTAMP:20260423T180357
CREATED:20240901T212046Z
LAST-MODIFIED:20250418T170524Z
UID:1711-1788256800-1788264000@www.atchisonlibrary.org
SUMMARY:Genealogy Meets For Assistance
DESCRIPTION:Connect with members of our Genealogy Team for assistance.
URL:https://www.atchisonlibrary.org/event/genealogy-meets-for-assistance-124/
LOCATION:401 Kansas Ave\, Atchison\, KS\, United States
CATEGORIES:Atchison Library
END:VEVENT
BEGIN:VEVENT
DTSTART;TZID=America/Chicago:20260908T100000
DTEND;TZID=America/Chicago:20260908T120000
DTSTAMP:20260423T180357
CREATED:20240908T213735Z
LAST-MODIFIED:20250418T170524Z
UID:1768-1788861600-1788868800@www.atchisonlibrary.org
SUMMARY:Genealogy Meets For Assistance
DESCRIPTION:Connect with members of our Genealogy Team for assistance.
URL:https://www.atchisonlibrary.org/event/genealogy-meets-for-assistance-125/
LOCATION:401 Kansas Ave\, Atchison\, KS\, United States
CATEGORIES:Atchison Library
END:VEVENT
BEGIN:VEVENT
DTSTART;TZID=America/Chicago:20260915T100000
DTEND;TZID=America/Chicago:20260915T120000
DTSTAMP:20260423T180357
CREATED:20240915T215134Z
LAST-MODIFIED:20250418T170524Z
UID:1831-1789466400-1789473600@www.atchisonlibrary.org
SUMMARY:Genealogy Meets For Assistance
DESCRIPTION:Connect with members of our Genealogy Team for assistance.
URL:https://www.atchisonlibrary.org/event/genealogy-meets-for-assistance-126/
LOCATION:401 Kansas Ave\, Atchison\, KS\, United States
CATEGORIES:Atchison Library
END:VEVENT
BEGIN:VEVENT
DTSTART;TZID=America/Chicago:20260922T100000
DTEND;TZID=America/Chicago:20260922T120000
DTSTAMP:20260423T180357
CREATED:20240922T220841Z
LAST-MODIFIED:20250418T170524Z
UID:1873-1790071200-1790078400@www.atchisonlibrary.org
SUMMARY:Genealogy Meets For Assistance
DESCRIPTION:Connect with members of our Genealogy Team for assistance.
URL:https://www.atchisonlibrary.org/event/genealogy-meets-for-assistance-127/
LOCATION:401 Kansas Ave\, Atchison\, KS\, United States
CATEGORIES:Atchison Library
END:VEVENT
BEGIN:VEVENT
DTSTART;TZID=America/Chicago:20260928T180000
DTEND;TZID=America/Chicago:20260928T190000
DTSTAMP:20260423T180357
CREATED:20240928T220753Z
LAST-MODIFIED:20250418T170524Z
UID:1913-1790618400-1790622000@www.atchisonlibrary.org
SUMMARY:Atchison Public Library Board Meeting
DESCRIPTION:Atchison Public Library Board of Directors meets every Fourth Monday of each month. This meeting is open to the public.
URL:https://www.atchisonlibrary.org/event/atchison-public-library-board-meeting-53/
LOCATION:401 Kansas Ave\, Atchison\, KS\, United States
CATEGORIES:Atchison Library
END:VEVENT
BEGIN:VEVENT
DTSTART;TZID=America/Chicago:20260929T100000
DTEND;TZID=America/Chicago:20260929T120000
DTSTAMP:20260423T180357
CREATED:20240929T222115Z
LAST-MODIFIED:20250418T170524Z
UID:1919-1790676000-1790683200@www.atchisonlibrary.org
SUMMARY:Genealogy Meets For Assistance
DESCRIPTION:Connect with members of our Genealogy Team for assistance.
URL:https://www.atchisonlibrary.org/event/genealogy-meets-for-assistance-128/
LOCATION:401 Kansas Ave\, Atchison\, KS\, United States
CATEGORIES:Atchison Library
END:VEVENT
BEGIN:VEVENT
DTSTART;TZID=America/Chicago:20261006T100000
DTEND;TZID=America/Chicago:20261006T120000
DTSTAMP:20260423T180357
CREATED:20241006T222017Z
LAST-MODIFIED:20250418T170524Z
UID:1957-1791280800-1791288000@www.atchisonlibrary.org
SUMMARY:Genealogy Meets For Assistance
DESCRIPTION:Connect with members of our Genealogy Team for assistance.
URL:https://www.atchisonlibrary.org/event/genealogy-meets-for-assistance-129/
LOCATION:401 Kansas Ave\, Atchison\, KS\, United States
CATEGORIES:Atchison Library
END:VEVENT
BEGIN:VEVENT
DTSTART;TZID=America/Chicago:20261013T100000
DTEND;TZID=America/Chicago:20261013T120000
DTSTAMP:20260423T180358
CREATED:20241013T223620Z
LAST-MODIFIED:20250418T170524Z
UID:2003-1791885600-1791892800@www.atchisonlibrary.org
SUMMARY:Genealogy Meets For Assistance
DESCRIPTION:Connect with members of our Genealogy Team for assistance.
URL:https://www.atchisonlibrary.org/event/genealogy-meets-for-assistance-130/
LOCATION:401 Kansas Ave\, Atchison\, KS\, United States
CATEGORIES:Atchison Library
END:VEVENT
BEGIN:VEVENT
DTSTART;TZID=America/Chicago:20261020T100000
DTEND;TZID=America/Chicago:20261020T120000
DTSTAMP:20260423T180358
CREATED:20241020T233515Z
LAST-MODIFIED:20250418T170524Z
UID:2035-1792490400-1792497600@www.atchisonlibrary.org
SUMMARY:Genealogy Meets For Assistance
DESCRIPTION:Connect with members of our Genealogy Team for assistance.
URL:https://www.atchisonlibrary.org/event/genealogy-meets-for-assistance-131/
LOCATION:401 Kansas Ave\, Atchison\, KS\, United States
CATEGORIES:Atchison Library
END:VEVENT
BEGIN:VEVENT
DTSTART;TZID=America/Chicago:20261026T180000
DTEND;TZID=America/Chicago:20261026T190000
DTSTAMP:20260423T180358
CREATED:20241026T160517Z
LAST-MODIFIED:20250418T170524Z
UID:2075-1793037600-1793041200@www.atchisonlibrary.org
SUMMARY:Atchison Public Library Board Meeting
DESCRIPTION:Atchison Public Library Board of Directors meets every Fourth Monday of each month. This meeting is open to the public.
URL:https://www.atchisonlibrary.org/event/atchison-public-library-board-meeting-54/
LOCATION:401 Kansas Ave\, Atchison\, KS\, United States
CATEGORIES:Atchison Library
END:VEVENT
BEGIN:VEVENT
DTSTART;TZID=America/Chicago:20261027T100000
DTEND;TZID=America/Chicago:20261027T120000
DTSTAMP:20260423T180358
CREATED:20241027T160517Z
LAST-MODIFIED:20250418T170524Z
UID:2081-1793095200-1793102400@www.atchisonlibrary.org
SUMMARY:Genealogy Meets For Assistance
DESCRIPTION:Connect with members of our Genealogy Team for assistance.
URL:https://www.atchisonlibrary.org/event/genealogy-meets-for-assistance-132/
LOCATION:401 Kansas Ave\, Atchison\, KS\, United States
CATEGORIES:Atchison Library
END:VEVENT
BEGIN:VEVENT
DTSTART;TZID=America/Chicago:20261103T100000
DTEND;TZID=America/Chicago:20261103T120000
DTSTAMP:20260423T180358
CREATED:20241103T162018Z
LAST-MODIFIED:20250418T170524Z
UID:2115-1793700000-1793707200@www.atchisonlibrary.org
SUMMARY:Genealogy Meets For Assistance
DESCRIPTION:Connect with members of our Genealogy Team for assistance.
URL:https://www.atchisonlibrary.org/event/genealogy-meets-for-assistance-133/
LOCATION:401 Kansas Ave\, Atchison\, KS\, United States
CATEGORIES:Atchison Library
END:VEVENT
BEGIN:VEVENT
DTSTART;TZID=America/Chicago:20261110T100000
DTEND;TZID=America/Chicago:20261110T120000
DTSTAMP:20260423T180358
CREATED:20241110T162033Z
LAST-MODIFIED:20250418T170524Z
UID:2145-1794304800-1794312000@www.atchisonlibrary.org
SUMMARY:Genealogy Meets For Assistance
DESCRIPTION:Connect with members of our Genealogy Team for assistance.
URL:https://www.atchisonlibrary.org/event/genealogy-meets-for-assistance-134/
LOCATION:401 Kansas Ave\, Atchison\, KS\, United States
CATEGORIES:Atchison Library
END:VEVENT
BEGIN:VEVENT
DTSTART;TZID=America/Chicago:20261117T100000
DTEND;TZID=America/Chicago:20261117T120000
DTSTAMP:20260423T180358
CREATED:20241117T162021Z
LAST-MODIFIED:20250418T170525Z
UID:2258-1794909600-1794916800@www.atchisonlibrary.org
SUMMARY:Genealogy Meets For Assistance
DESCRIPTION:Connect with members of our Genealogy Team for assistance.
URL:https://www.atchisonlibrary.org/event/genealogy-meets-for-assistance-135/
LOCATION:401 Kansas Ave\, Atchison\, KS\, United States
CATEGORIES:Atchison Library
END:VEVENT
BEGIN:VEVENT
DTSTART;TZID=America/Chicago:20261123T180000
DTEND;TZID=America/Chicago:20261123T190000
DTSTAMP:20260423T180358
CREATED:20241124T165021Z
LAST-MODIFIED:20250418T170525Z
UID:2315-1795456800-1795460400@www.atchisonlibrary.org
SUMMARY:Atchison Public Library Board Meeting
DESCRIPTION:Atchison Public Library Board of Directors meets every Fourth Monday of each month. This meeting is open to the public.
URL:https://www.atchisonlibrary.org/event/atchison-public-library-board-meeting-55/
LOCATION:401 Kansas Ave\, Atchison\, KS\, United States
CATEGORIES:Atchison Library
END:VEVENT
BEGIN:VEVENT
DTSTART;TZID=America/Chicago:20261124T100000
DTEND;TZID=America/Chicago:20261124T120000
DTSTAMP:20260423T180358
CREATED:20241124T165021Z
LAST-MODIFIED:20250418T170525Z
UID:2316-1795514400-1795521600@www.atchisonlibrary.org
SUMMARY:Genealogy Meets For Assistance
DESCRIPTION:Connect with members of our Genealogy Team for assistance.
URL:https://www.atchisonlibrary.org/event/genealogy-meets-for-assistance-136/
LOCATION:401 Kansas Ave\, Atchison\, KS\, United States
CATEGORIES:Atchison Library
END:VEVENT
BEGIN:VEVENT
DTSTART;TZID=America/Chicago:20261201T100000
DTEND;TZID=America/Chicago:20261201T120000
DTSTAMP:20260423T180358
CREATED:20241201T165233Z
LAST-MODIFIED:20250418T170525Z
UID:2349-1796119200-1796126400@www.atchisonlibrary.org
SUMMARY:Genealogy Meets For Assistance
DESCRIPTION:Connect with members of our Genealogy Team for assistance.
URL:https://www.atchisonlibrary.org/event/genealogy-meets-for-assistance-137/
LOCATION:401 Kansas Ave\, Atchison\, KS\, United States
CATEGORIES:Atchison Library
END:VEVENT
BEGIN:VEVENT
DTSTART;TZID=America/Chicago:20261208T100000
DTEND;TZID=America/Chicago:20261208T120000
DTSTAMP:20260423T180358
CREATED:20241208T173638Z
LAST-MODIFIED:20250418T170525Z
UID:2385-1796724000-1796731200@www.atchisonlibrary.org
SUMMARY:Genealogy Meets For Assistance
DESCRIPTION:Connect with members of our Genealogy Team for assistance.
URL:https://www.atchisonlibrary.org/event/genealogy-meets-for-assistance-138/
LOCATION:401 Kansas Ave\, Atchison\, KS\, United States
CATEGORIES:Atchison Library
END:VEVENT
BEGIN:VEVENT
DTSTART;TZID=America/Chicago:20261215T100000
DTEND;TZID=America/Chicago:20261215T120000
DTSTAMP:20260423T180358
CREATED:20241215T180554Z
LAST-MODIFIED:20250418T170525Z
UID:2415-1797328800-1797336000@www.atchisonlibrary.org
SUMMARY:Genealogy Meets For Assistance
DESCRIPTION:Connect with members of our Genealogy Team for assistance.
URL:https://www.atchisonlibrary.org/event/genealogy-meets-for-assistance-139/
LOCATION:401 Kansas Ave\, Atchison\, KS\, United States
CATEGORIES:Atchison Library
END:VEVENT
BEGIN:VEVENT
DTSTART;TZID=America/Chicago:20261222T100000
DTEND;TZID=America/Chicago:20261222T120000
DTSTAMP:20260423T180358
CREATED:20241222T182111Z
LAST-MODIFIED:20250418T170525Z
UID:2445-1797933600-1797940800@www.atchisonlibrary.org
SUMMARY:Genealogy Meets For Assistance
DESCRIPTION:Connect with members of our Genealogy Team for assistance.
URL:https://www.atchisonlibrary.org/event/genealogy-meets-for-assistance-140/
LOCATION:401 Kansas Ave\, Atchison\, KS\, United States
CATEGORIES:Atchison Library
END:VEVENT
BEGIN:VEVENT
DTSTART;TZID=America/Chicago:20261228T180000
DTEND;TZID=America/Chicago:20261228T190000
DTSTAMP:20260423T180358
CREATED:20241229T182024Z
LAST-MODIFIED:20250418T170525Z
UID:2475-1798480800-1798484400@www.atchisonlibrary.org
SUMMARY:Atchison Public Library Board Meeting
DESCRIPTION:Atchison Public Library Board of Directors meets every Fourth Monday of each month. This meeting is open to the public.
URL:https://www.atchisonlibrary.org/event/atchison-public-library-board-meeting-56/
LOCATION:401 Kansas Ave\, Atchison\, KS\, United States
CATEGORIES:Atchison Library
END:VEVENT
BEGIN:VEVENT
DTSTART;TZID=America/Chicago:20261229T100000
DTEND;TZID=America/Chicago:20261229T120000
DTSTAMP:20260423T180358
CREATED:20241229T182024Z
LAST-MODIFIED:20250418T170525Z
UID:2476-1798538400-1798545600@www.atchisonlibrary.org
SUMMARY:Genealogy Meets For Assistance
DESCRIPTION:Connect with members of our Genealogy Team for assistance.
URL:https://www.atchisonlibrary.org/event/genealogy-meets-for-assistance-141/
LOCATION:401 Kansas Ave\, Atchison\, KS\, United States
CATEGORIES:Atchison Library
END:VEVENT
BEGIN:VEVENT
DTSTART;TZID=America/Chicago:20270105T100000
DTEND;TZID=America/Chicago:20270105T120000
DTSTAMP:20260423T180358
CREATED:20250105T185029Z
LAST-MODIFIED:20250418T170525Z
UID:2507-1799143200-1799150400@www.atchisonlibrary.org
SUMMARY:Genealogy Meets For Assistance
DESCRIPTION:Connect with members of our Genealogy Team for assistance.
URL:https://www.atchisonlibrary.org/event/genealogy-meets-for-assistance-142/
LOCATION:401 Kansas Ave\, Atchison\, KS\, United States
CATEGORIES:Atchison Library
END:VEVENT
BEGIN:VEVENT
DTSTART;TZID=America/Chicago:20270112T100000
DTEND;TZID=America/Chicago:20270112T120000
DTSTAMP:20260423T180358
CREATED:20250112T190531Z
LAST-MODIFIED:20250418T170525Z
UID:2550-1799748000-1799755200@www.atchisonlibrary.org
SUMMARY:Genealogy Meets For Assistance
DESCRIPTION:Connect with members of our Genealogy Team for assistance.
URL:https://www.atchisonlibrary.org/event/genealogy-meets-for-assistance-143/
LOCATION:401 Kansas Ave\, Atchison\, KS\, United States
CATEGORIES:Atchison Library
END:VEVENT
BEGIN:VEVENT
DTSTART;TZID=America/Chicago:20270119T100000
DTEND;TZID=America/Chicago:20270119T120000
DTSTAMP:20260423T180358
CREATED:20250119T195020Z
LAST-MODIFIED:20250418T170525Z
UID:2589-1800352800-1800360000@www.atchisonlibrary.org
SUMMARY:Genealogy Meets For Assistance
DESCRIPTION:Connect with members of our Genealogy Team for assistance.
URL:https://www.atchisonlibrary.org/event/genealogy-meets-for-assistance-144/
LOCATION:401 Kansas Ave\, Atchison\, KS\, United States
CATEGORIES:Atchison Library
END:VEVENT
BEGIN:VEVENT
DTSTART;TZID=America/Chicago:20270125T180000
DTEND;TZID=America/Chicago:20270125T190000
DTSTAMP:20260423T180358
CREATED:20250126T203524Z
LAST-MODIFIED:20250418T170525Z
UID:2623-1800900000-1800903600@www.atchisonlibrary.org
SUMMARY:Atchison Public Library Board Meeting
DESCRIPTION:Atchison Public Library Board of Directors meets every Fourth Monday of each month. This meeting is open to the public.
URL:https://www.atchisonlibrary.org/event/atchison-public-library-board-meeting-57/
LOCATION:401 Kansas Ave\, Atchison\, KS\, United States
CATEGORIES:Atchison Library
END:VEVENT
BEGIN:VEVENT
DTSTART;TZID=America/Chicago:20270126T100000
DTEND;TZID=America/Chicago:20270126T120000
DTSTAMP:20260423T180358
CREATED:20250126T203525Z
LAST-MODIFIED:20250418T170526Z
UID:2624-1800957600-1800964800@www.atchisonlibrary.org
SUMMARY:Genealogy Meets For Assistance
DESCRIPTION:Connect with members of our Genealogy Team for assistance.
URL:https://www.atchisonlibrary.org/event/genealogy-meets-for-assistance-145/
LOCATION:401 Kansas Ave\, Atchison\, KS\, United States
CATEGORIES:Atchison Library
END:VEVENT
BEGIN:VEVENT
DTSTART;TZID=America/Chicago:20270202T100000
DTEND;TZID=America/Chicago:20270202T120000
DTSTAMP:20260423T180358
CREATED:20250202T212146Z
LAST-MODIFIED:20250418T170526Z
UID:2658-1801562400-1801569600@www.atchisonlibrary.org
SUMMARY:Genealogy Meets For Assistance
DESCRIPTION:Connect with members of our Genealogy Team for assistance.
URL:https://www.atchisonlibrary.org/event/genealogy-meets-for-assistance-146/
LOCATION:401 Kansas Ave\, Atchison\, KS\, United States
CATEGORIES:Atchison Library
END:VEVENT
BEGIN:VEVENT
DTSTART;TZID=America/Chicago:20270209T100000
DTEND;TZID=America/Chicago:20270209T120000
DTSTAMP:20260423T180358
CREATED:20250209T213518Z
LAST-MODIFIED:20250418T170526Z
UID:2699-1802167200-1802174400@www.atchisonlibrary.org
SUMMARY:Genealogy Meets For Assistance
DESCRIPTION:Connect with members of our Genealogy Team for assistance.
URL:https://www.atchisonlibrary.org/event/genealogy-meets-for-assistance-147/
LOCATION:401 Kansas Ave\, Atchison\, KS\, United States
CATEGORIES:Atchison Library
END:VEVENT
BEGIN:VEVENT
DTSTART;TZID=America/Chicago:20270216T100000
DTEND;TZID=America/Chicago:20270216T120000
DTSTAMP:20260423T180358
CREATED:20250216T221309Z
LAST-MODIFIED:20250418T170526Z
UID:2732-1802772000-1802779200@www.atchisonlibrary.org
SUMMARY:Genealogy Meets For Assistance
DESCRIPTION:Connect with members of our Genealogy Team for assistance.
URL:https://www.atchisonlibrary.org/event/genealogy-meets-for-assistance-148/
LOCATION:401 Kansas Ave\, Atchison\, KS\, United States
CATEGORIES:Atchison Library
END:VEVENT
END:VCALENDAR