BEGIN:VCALENDAR
VERSION:2.0
PRODID:-//Atchison Public Library - ECPv6.15.20//NONSGML v1.0//EN
CALSCALE:GREGORIAN
METHOD:PUBLISH
X-WR-CALNAME:Atchison Public Library
X-ORIGINAL-URL:https://www.atchisonlibrary.org
X-WR-CALDESC:Events for Atchison Public Library
REFRESH-INTERVAL;VALUE=DURATION:PT1H
X-Robots-Tag:noindex
X-PUBLISHED-TTL:PT1H
BEGIN:VTIMEZONE
TZID:America/Chicago
BEGIN:DAYLIGHT
TZOFFSETFROM:-0600
TZOFFSETTO:-0500
TZNAME:CDT
DTSTART:20230312T080000
END:DAYLIGHT
BEGIN:STANDARD
TZOFFSETFROM:-0500
TZOFFSETTO:-0600
TZNAME:CST
DTSTART:20231105T070000
END:STANDARD
BEGIN:DAYLIGHT
TZOFFSETFROM:-0600
TZOFFSETTO:-0500
TZNAME:CDT
DTSTART:20240310T080000
END:DAYLIGHT
BEGIN:STANDARD
TZOFFSETFROM:-0500
TZOFFSETTO:-0600
TZNAME:CST
DTSTART:20241103T070000
END:STANDARD
BEGIN:DAYLIGHT
TZOFFSETFROM:-0600
TZOFFSETTO:-0500
TZNAME:CDT
DTSTART:20250309T080000
END:DAYLIGHT
BEGIN:STANDARD
TZOFFSETFROM:-0500
TZOFFSETTO:-0600
TZNAME:CST
DTSTART:20251102T070000
END:STANDARD
END:VTIMEZONE
BEGIN:VEVENT
DTSTART;TZID=America/Chicago:20240910T100000
DTEND;TZID=America/Chicago:20240910T113000
DTSTAMP:20260425T052831
CREATED:20240508T211807Z
LAST-MODIFIED:20240508T211807Z
UID:718-1725962400-1725967800@www.atchisonlibrary.org
SUMMARY:Knitting Group
DESCRIPTION:Bring your yarn art\, any kind\, and chat with like minded crafters.
URL:https://www.atchisonlibrary.org/event/knitting-group-18/
END:VEVENT
BEGIN:VEVENT
DTSTART;TZID=America/Chicago:20240905T180000
DTEND;TZID=America/Chicago:20240905T193000
DTSTAMP:20260425T052831
CREATED:20240508T211807Z
LAST-MODIFIED:20240508T211807Z
UID:717-1725559200-1725564600@www.atchisonlibrary.org
SUMMARY:Mary's Food Freaks
DESCRIPTION:
URL:https://www.atchisonlibrary.org/event/marys-food-freaks-4/
END:VEVENT
BEGIN:VEVENT
DTSTART;TZID=America/Chicago:20240904T180000
DTEND;TZID=America/Chicago:20240904T190000
DTSTAMP:20260425T052831
CREATED:20240508T211807Z
LAST-MODIFIED:20240508T211807Z
UID:715-1725472800-1725476400@www.atchisonlibrary.org
SUMMARY:Courage to Change (KS RM)
DESCRIPTION:Janie Handke and Mary Webb\n913-370-0589 (Janie)
URL:https://www.atchisonlibrary.org/event/courage-to-change-ks-rm-18/
END:VEVENT
BEGIN:VEVENT
DTSTART;TZID=America/Chicago:20240903T173000
DTEND;TZID=America/Chicago:20240903T190000
DTSTAMP:20260425T052831
CREATED:20240508T211807Z
LAST-MODIFIED:20240508T211807Z
UID:714-1725384600-1725390000@www.atchisonlibrary.org
SUMMARY:Atchison County Kansas Genealogical Society
DESCRIPTION:Once a month\, the ACKGS hosts a genealogy event for the public. Come for speakers\, presentations\, and local history.
URL:https://www.atchisonlibrary.org/event/atchison-county-kansas-genealogical-society-4/
END:VEVENT
BEGIN:VEVENT
DTSTART;TZID=America/Chicago:20240903T100000
DTEND;TZID=America/Chicago:20240903T120000
DTSTAMP:20260425T052831
CREATED:20240508T211807Z
LAST-MODIFIED:20240508T211807Z
UID:712-1725357600-1725364800@www.atchisonlibrary.org
SUMMARY:Genealogy Help in Kansas Room
DESCRIPTION:Members of the Atchison County Kansas Genealogical Society will be in the Kansas Room with an open door for anyone needing genealogical research assistance. Come on in and ask them about the local history and the records we have on our community.
URL:https://www.atchisonlibrary.org/event/genealogy-help-in-kansas-room-17/
END:VEVENT
BEGIN:VEVENT
DTSTART;TZID=America/Chicago:20240903T100000
DTEND;TZID=America/Chicago:20240903T120000
DTSTAMP:20260425T052831
CREATED:20240423T013011Z
LAST-MODIFIED:20240902T212027Z
UID:282-1725357600-1725364800@www.atchisonlibrary.org
SUMMARY:Genealogy Meets For Assistance
DESCRIPTION:Connect with members of our Genealogy Team for assistance.
URL:https://www.atchisonlibrary.org/event/genealogy-meets-for-assistance-20/
LOCATION:401 Kansas Ave\, Atchison\, KS\, United States
CATEGORIES:Atchison Library
END:VEVENT
BEGIN:VEVENT
DTSTART;TZID=America/Chicago:20240903T100000
DTEND;TZID=America/Chicago:20240903T113000
DTSTAMP:20260425T052831
CREATED:20240508T211807Z
LAST-MODIFIED:20240508T211807Z
UID:713-1725357600-1725363000@www.atchisonlibrary.org
SUMMARY:Knitting Group
DESCRIPTION:Bring your yarn art\, any kind\, and chat with like minded crafters.
URL:https://www.atchisonlibrary.org/event/knitting-group-17/
END:VEVENT
BEGIN:VEVENT
DTSTART;TZID=America/Chicago:20240828T180000
DTEND;TZID=America/Chicago:20240828T190000
DTSTAMP:20260425T052831
CREATED:20240508T211807Z
LAST-MODIFIED:20240508T211807Z
UID:710-1724868000-1724871600@www.atchisonlibrary.org
SUMMARY:Courage to Change (KS RM)
DESCRIPTION:Janie Handke and Mary Webb\n913-370-0589 (Janie)
URL:https://www.atchisonlibrary.org/event/courage-to-change-ks-rm-17/
END:VEVENT
BEGIN:VEVENT
DTSTART;TZID=America/Chicago:20240827T100000
DTEND;TZID=America/Chicago:20240827T120000
DTSTAMP:20260425T052831
CREATED:20240508T211807Z
LAST-MODIFIED:20240508T211807Z
UID:709-1724752800-1724760000@www.atchisonlibrary.org
SUMMARY:Genealogy Help in Kansas Room
DESCRIPTION:Members of the Atchison County Kansas Genealogical Society will be in the Kansas Room with an open door for anyone needing genealogical research assistance. Come on in and ask them about the local history and the records we have on our community.
URL:https://www.atchisonlibrary.org/event/genealogy-help-in-kansas-room-16/
END:VEVENT
BEGIN:VEVENT
DTSTART;TZID=America/Chicago:20240827T100000
DTEND;TZID=America/Chicago:20240827T120000
DTSTAMP:20260425T052831
CREATED:20240508T211807Z
LAST-MODIFIED:20240508T211807Z
UID:707-1724752800-1724760000@www.atchisonlibrary.org
SUMMARY:Genealogy Board meeting (KS RM)
DESCRIPTION:
URL:https://www.atchisonlibrary.org/event/genealogy-board-meeting-ks-rm-4/
END:VEVENT
BEGIN:VEVENT
DTSTART;TZID=America/Chicago:20240827T100000
DTEND;TZID=America/Chicago:20240827T120000
DTSTAMP:20260425T052831
CREATED:20240423T013011Z
LAST-MODIFIED:20240826T212143Z
UID:281-1724752800-1724760000@www.atchisonlibrary.org
SUMMARY:Genealogy Meets For Assistance
DESCRIPTION:Connect with members of our Genealogy Team for assistance.
URL:https://www.atchisonlibrary.org/event/genealogy-meets-for-assistance-19/
LOCATION:401 Kansas Ave\, Atchison\, KS\, United States
CATEGORIES:Atchison Library
END:VEVENT
BEGIN:VEVENT
DTSTART;TZID=America/Chicago:20240827T100000
DTEND;TZID=America/Chicago:20240827T113000
DTSTAMP:20260425T052831
CREATED:20240508T211807Z
LAST-MODIFIED:20240508T211807Z
UID:708-1724752800-1724758200@www.atchisonlibrary.org
SUMMARY:Knitting Group
DESCRIPTION:Bring your yarn art\, any kind\, and chat with like minded crafters.
URL:https://www.atchisonlibrary.org/event/knitting-group-16/
END:VEVENT
BEGIN:VEVENT
DTSTART;TZID=America/Chicago:20240826T190000
DTEND;TZID=America/Chicago:20240826T200000
DTSTAMP:20260425T052831
CREATED:20240411T205257Z
LAST-MODIFIED:20240422T004548Z
UID:166-1724698800-1724702400@www.atchisonlibrary.org
SUMMARY:Atchison Public Library Board Meeting
DESCRIPTION:Atchison Public Library Board of Directors meets every Fourth Monday of each month. This meeting is open to the public.
URL:https://www.atchisonlibrary.org/event/atchison-public-library-board-meeting-5/
LOCATION:401 Kansas Ave\, Atchison\, KS 66002\, USA
CATEGORIES:Atchison Library
END:VEVENT
BEGIN:VEVENT
DTSTART;TZID=America/Chicago:20240826T180000
DTEND;TZID=America/Chicago:20240826T190000
DTSTAMP:20260425T052831
CREATED:20240508T211807Z
LAST-MODIFIED:20240508T211807Z
UID:706-1724695200-1724698800@www.atchisonlibrary.org
SUMMARY:Library Board Meeting
DESCRIPTION:
URL:https://www.atchisonlibrary.org/event/library-board-meeting-4/
END:VEVENT
BEGIN:VEVENT
DTSTART;TZID=America/Chicago:20240826T180000
DTEND;TZID=America/Chicago:20240826T190000
DTSTAMP:20260425T052831
CREATED:20240423T013011Z
LAST-MODIFIED:20240826T212143Z
UID:280-1724695200-1724698800@www.atchisonlibrary.org
SUMMARY:Atchison Public Library Board Meeting
DESCRIPTION:Atchison Public Library Board of Directors meets every Fourth Monday of each month. This meeting is open to the public.
URL:https://www.atchisonlibrary.org/event/atchison-public-library-board-meeting-28/
LOCATION:401 Kansas Ave\, Atchison\, KS\, United States
CATEGORIES:Atchison Library
END:VEVENT
BEGIN:VEVENT
DTSTART;TZID=America/Chicago:20240822T180000
DTEND;TZID=America/Chicago:20240822T193000
DTSTAMP:20260425T052831
CREATED:20240508T211807Z
LAST-MODIFIED:20240508T211807Z
UID:705-1724349600-1724355000@www.atchisonlibrary.org
SUMMARY:Open Mic Night
DESCRIPTION:
URL:https://www.atchisonlibrary.org/event/open-mic-night-4/
END:VEVENT
BEGIN:VEVENT
DTSTART;TZID=America/Chicago:20240821T180000
DTEND;TZID=America/Chicago:20240821T190000
DTSTAMP:20260425T052831
CREATED:20240508T211807Z
LAST-MODIFIED:20240508T211807Z
UID:703-1724263200-1724266800@www.atchisonlibrary.org
SUMMARY:Courage to Change (KS RM)
DESCRIPTION:Janie Handke and Mary Webb\n913-370-0589 (Janie)
URL:https://www.atchisonlibrary.org/event/courage-to-change-ks-rm-16/
END:VEVENT
BEGIN:VEVENT
DTSTART;TZID=America/Chicago:20240820T100000
DTEND;TZID=America/Chicago:20240820T120000
DTSTAMP:20260425T052831
CREATED:20240508T211807Z
LAST-MODIFIED:20240508T211807Z
UID:701-1724148000-1724155200@www.atchisonlibrary.org
SUMMARY:Genealogy Help in Kansas Room
DESCRIPTION:Members of the Atchison County Kansas Genealogical Society will be in the Kansas Room with an open door for anyone needing genealogical research assistance. Come on in and ask them about the local history and the records we have on our community.
URL:https://www.atchisonlibrary.org/event/genealogy-help-in-kansas-room-15/
END:VEVENT
BEGIN:VEVENT
DTSTART;TZID=America/Chicago:20240820T100000
DTEND;TZID=America/Chicago:20240820T120000
DTSTAMP:20260425T052831
CREATED:20240423T013011Z
LAST-MODIFIED:20240819T205119Z
UID:279-1724148000-1724155200@www.atchisonlibrary.org
SUMMARY:Genealogy Meets For Assistance
DESCRIPTION:Connect with members of our Genealogy Team for assistance.
URL:https://www.atchisonlibrary.org/event/genealogy-meets-for-assistance-18/
LOCATION:401 Kansas Ave\, Atchison\, KS\, United States
CATEGORIES:Atchison Library
END:VEVENT
BEGIN:VEVENT
DTSTART;TZID=America/Chicago:20240820T100000
DTEND;TZID=America/Chicago:20240820T113000
DTSTAMP:20260425T052831
CREATED:20240508T211807Z
LAST-MODIFIED:20240508T211807Z
UID:702-1724148000-1724153400@www.atchisonlibrary.org
SUMMARY:Knitting Group
DESCRIPTION:Bring your yarn art\, any kind\, and chat with like minded crafters.
URL:https://www.atchisonlibrary.org/event/knitting-group-15/
END:VEVENT
BEGIN:VEVENT
DTSTART;TZID=America/Chicago:20240815T173000
DTEND;TZID=America/Chicago:20240815T193000
DTSTAMP:20260425T052831
CREATED:20240508T211807Z
LAST-MODIFIED:20240508T211807Z
UID:700-1723743000-1723750200@www.atchisonlibrary.org
SUMMARY:Mary craft night
DESCRIPTION:
URL:https://www.atchisonlibrary.org/event/mary-craft-night-4/
END:VEVENT
BEGIN:VEVENT
DTSTART;TZID=America/Chicago:20240815T143000
DTEND;TZID=America/Chicago:20240815T153000
DTSTAMP:20260425T052831
CREATED:20240508T211807Z
LAST-MODIFIED:20240508T211807Z
UID:699-1723732200-1723735800@www.atchisonlibrary.org
SUMMARY:Jake LaTurner rep (KS RM)
DESCRIPTION:
URL:https://www.atchisonlibrary.org/event/jake-laturner-rep-ks-rm-4/
END:VEVENT
BEGIN:VEVENT
DTSTART;TZID=America/Chicago:20240814T180000
DTEND;TZID=America/Chicago:20240814T190000
DTSTAMP:20260425T052831
CREATED:20240508T211807Z
LAST-MODIFIED:20240508T211807Z
UID:697-1723658400-1723662000@www.atchisonlibrary.org
SUMMARY:Courage to Change (KS RM)
DESCRIPTION:Janie Handke and Mary Webb\n913-370-0589 (Janie)
URL:https://www.atchisonlibrary.org/event/courage-to-change-ks-rm-15/
END:VEVENT
BEGIN:VEVENT
DTSTART;TZID=America/Chicago:20240813T123000
DTEND;TZID=America/Chicago:20240813T150000
DTSTAMP:20260425T052831
CREATED:20240508T211807Z
LAST-MODIFIED:20240508T211807Z
UID:696-1723552200-1723561200@www.atchisonlibrary.org
SUMMARY:Midday Movie
DESCRIPTION:Mary program
URL:https://www.atchisonlibrary.org/event/midday-movie-3/
END:VEVENT
BEGIN:VEVENT
DTSTART;TZID=America/Chicago:20240813T100000
DTEND;TZID=America/Chicago:20240813T120000
DTSTAMP:20260425T052831
CREATED:20240508T211806Z
LAST-MODIFIED:20240508T211806Z
UID:694-1723543200-1723550400@www.atchisonlibrary.org
SUMMARY:Genealogy Help in Kansas Room
DESCRIPTION:Members of the Atchison County Kansas Genealogical Society will be in the Kansas Room with an open door for anyone needing genealogical research assistance. Come on in and ask them about the local history and the records we have on our community.
URL:https://www.atchisonlibrary.org/event/genealogy-help-in-kansas-room-14/
END:VEVENT
BEGIN:VEVENT
DTSTART;TZID=America/Chicago:20240813T100000
DTEND;TZID=America/Chicago:20240813T120000
DTSTAMP:20260425T052831
CREATED:20240423T013011Z
LAST-MODIFIED:20240812T203537Z
UID:278-1723543200-1723550400@www.atchisonlibrary.org
SUMMARY:Genealogy Meets For Assistance
DESCRIPTION:Connect with members of our Genealogy Team for assistance.
URL:https://www.atchisonlibrary.org/event/genealogy-meets-for-assistance-17/
LOCATION:401 Kansas Ave\, Atchison\, KS\, United States
CATEGORIES:Atchison Library
END:VEVENT
BEGIN:VEVENT
DTSTART;TZID=America/Chicago:20240813T100000
DTEND;TZID=America/Chicago:20240813T113000
DTSTAMP:20260425T052831
CREATED:20240508T211807Z
LAST-MODIFIED:20240508T211807Z
UID:695-1723543200-1723548600@www.atchisonlibrary.org
SUMMARY:Knitting Group
DESCRIPTION:Bring your yarn art\, any kind\, and chat with like minded crafters.
URL:https://www.atchisonlibrary.org/event/knitting-group-14/
END:VEVENT
BEGIN:VEVENT
DTSTART;TZID=America/Chicago:20240808T180000
DTEND;TZID=America/Chicago:20240808T190000
DTSTAMP:20260425T052831
CREATED:20240508T211806Z
LAST-MODIFIED:20240508T211806Z
UID:693-1723140000-1723143600@www.atchisonlibrary.org
SUMMARY:Library Book Club
DESCRIPTION:
URL:https://www.atchisonlibrary.org/event/library-book-club-4/
END:VEVENT
BEGIN:VEVENT
DTSTART;TZID=America/Chicago:20240807T180000
DTEND;TZID=America/Chicago:20240807T190000
DTSTAMP:20260425T052831
CREATED:20240508T211806Z
LAST-MODIFIED:20240508T211806Z
UID:691-1723053600-1723057200@www.atchisonlibrary.org
SUMMARY:Courage to Change (KS RM)
DESCRIPTION:Janie Handke and Mary Webb\n913-370-0589 (Janie)
URL:https://www.atchisonlibrary.org/event/courage-to-change-ks-rm-14/
END:VEVENT
BEGIN:VEVENT
DTSTART;TZID=America/Chicago:20240806T173000
DTEND;TZID=America/Chicago:20240806T190000
DTSTAMP:20260425T052831
CREATED:20240508T211806Z
LAST-MODIFIED:20240508T211806Z
UID:690-1722965400-1722970800@www.atchisonlibrary.org
SUMMARY:Atchison County Kansas Genealogical Society
DESCRIPTION:Once a month\, the ACKGS hosts a genealogy event for the public. Come for speakers\, presentations\, and local history.
URL:https://www.atchisonlibrary.org/event/atchison-county-kansas-genealogical-society-3/
END:VEVENT
END:VCALENDAR