BEGIN:VCALENDAR
VERSION:2.0
PRODID:-//Atchison Public Library - ECPv6.15.20//NONSGML v1.0//EN
CALSCALE:GREGORIAN
METHOD:PUBLISH
X-ORIGINAL-URL:https://www.atchisonlibrary.org
X-WR-CALDESC:Events for Atchison Public Library
REFRESH-INTERVAL;VALUE=DURATION:PT1H
X-Robots-Tag:noindex
X-PUBLISHED-TTL:PT1H
BEGIN:VTIMEZONE
TZID:America/Chicago
BEGIN:DAYLIGHT
TZOFFSETFROM:-0600
TZOFFSETTO:-0500
TZNAME:CDT
DTSTART:20230312T080000
END:DAYLIGHT
BEGIN:STANDARD
TZOFFSETFROM:-0500
TZOFFSETTO:-0600
TZNAME:CST
DTSTART:20231105T070000
END:STANDARD
BEGIN:DAYLIGHT
TZOFFSETFROM:-0600
TZOFFSETTO:-0500
TZNAME:CDT
DTSTART:20240310T080000
END:DAYLIGHT
BEGIN:STANDARD
TZOFFSETFROM:-0500
TZOFFSETTO:-0600
TZNAME:CST
DTSTART:20241103T070000
END:STANDARD
BEGIN:DAYLIGHT
TZOFFSETFROM:-0600
TZOFFSETTO:-0500
TZNAME:CDT
DTSTART:20250309T080000
END:DAYLIGHT
BEGIN:STANDARD
TZOFFSETFROM:-0500
TZOFFSETTO:-0600
TZNAME:CST
DTSTART:20251102T070000
END:STANDARD
BEGIN:DAYLIGHT
TZOFFSETFROM:-0600
TZOFFSETTO:-0500
TZNAME:CDT
DTSTART:20260308T080000
END:DAYLIGHT
BEGIN:STANDARD
TZOFFSETFROM:-0500
TZOFFSETTO:-0600
TZNAME:CST
DTSTART:20261101T070000
END:STANDARD
END:VTIMEZONE
BEGIN:VEVENT
DTSTART;TZID=America/Chicago:20250108T180000
DTEND;TZID=America/Chicago:20250108T190000
DTSTAMP:20260424T074454
CREATED:20240508T211813Z
LAST-MODIFIED:20240508T211813Z
UID:834-1736359200-1736362800@www.atchisonlibrary.org
SUMMARY:Courage to Change (KS RM)
DESCRIPTION:Janie Handke and Mary Webb\n913-370-0589 (Janie)
URL:https://www.atchisonlibrary.org/event/courage-to-change-ks-rm-36/
END:VEVENT
BEGIN:VEVENT
DTSTART;TZID=America/Chicago:20250107T173000
DTEND;TZID=America/Chicago:20250107T190000
DTSTAMP:20260424T074454
CREATED:20240508T211813Z
LAST-MODIFIED:20240508T211813Z
UID:833-1736271000-1736276400@www.atchisonlibrary.org
SUMMARY:Atchison County Kansas Genealogical Society
DESCRIPTION:Once a month\, the ACKGS hosts a genealogy event for the public. Come for speakers\, presentations\, and local history.
URL:https://www.atchisonlibrary.org/event/atchison-county-kansas-genealogical-society-8/
END:VEVENT
BEGIN:VEVENT
DTSTART;TZID=America/Chicago:20250107T100000
DTEND;TZID=America/Chicago:20250107T120000
DTSTAMP:20260424T074454
CREATED:20240508T211812Z
LAST-MODIFIED:20240508T211812Z
UID:832-1736244000-1736251200@www.atchisonlibrary.org
SUMMARY:Genealogy Help in Kansas Room
DESCRIPTION:Members of the Atchison County Kansas Genealogical Society will be in the Kansas Room with an open door for anyone needing genealogical research assistance. Come on in and ask them about the local history and the records we have on our community.
URL:https://www.atchisonlibrary.org/event/genealogy-help-in-kansas-room-35/
END:VEVENT
BEGIN:VEVENT
DTSTART;TZID=America/Chicago:20250107T100000
DTEND;TZID=America/Chicago:20250107T120000
DTSTAMP:20260424T074454
CREATED:20240423T013012Z
LAST-MODIFIED:20250106T185016Z
UID:304-1736244000-1736251200@www.atchisonlibrary.org
SUMMARY:Genealogy Meets For Assistance
DESCRIPTION:Connect with members of our Genealogy Team for assistance.
URL:https://www.atchisonlibrary.org/event/genealogy-meets-for-assistance-38/
LOCATION:401 Kansas Ave\, Atchison\, KS\, United States
CATEGORIES:Atchison Library
END:VEVENT
BEGIN:VEVENT
DTSTART;TZID=America/Chicago:20250107T100000
DTEND;TZID=America/Chicago:20250107T113000
DTSTAMP:20260424T074454
CREATED:20240508T211812Z
LAST-MODIFIED:20240508T211812Z
UID:831-1736244000-1736249400@www.atchisonlibrary.org
SUMMARY:Knitting Group
DESCRIPTION:Bring your yarn art\, any kind\, and chat with like minded crafters.
URL:https://www.atchisonlibrary.org/event/knitting-group-35/
END:VEVENT
BEGIN:VEVENT
DTSTART;TZID=America/Chicago:20250102T180000
DTEND;TZID=America/Chicago:20250102T193000
DTSTAMP:20260424T074454
CREATED:20240508T211812Z
LAST-MODIFIED:20240508T211812Z
UID:830-1735840800-1735846200@www.atchisonlibrary.org
SUMMARY:Mary's Food Freaks
DESCRIPTION:
URL:https://www.atchisonlibrary.org/event/marys-food-freaks-8/
END:VEVENT
BEGIN:VEVENT
DTSTART;TZID=America/Chicago:20250101T180000
DTEND;TZID=America/Chicago:20250101T190000
DTSTAMP:20260424T074454
CREATED:20240508T211812Z
LAST-MODIFIED:20240508T211812Z
UID:828-1735754400-1735758000@www.atchisonlibrary.org
SUMMARY:Courage to Change (KS RM)
DESCRIPTION:Janie Handke and Mary Webb\n913-370-0589 (Janie)
URL:https://www.atchisonlibrary.org/event/courage-to-change-ks-rm-35/
END:VEVENT
BEGIN:VEVENT
DTSTART;TZID=America/Chicago:20241231T100000
DTEND;TZID=America/Chicago:20241231T120000
DTSTAMP:20260424T074454
CREATED:20240508T211812Z
LAST-MODIFIED:20240508T211812Z
UID:820-1735639200-1735646400@www.atchisonlibrary.org
SUMMARY:Genealogy Help in Kansas Room
DESCRIPTION:Members of the Atchison County Kansas Genealogical Society will be in the Kansas Room with an open door for anyone needing genealogical research assistance. Come on in and ask them about the local history and the records we have on our community.
URL:https://www.atchisonlibrary.org/event/genealogy-help-in-kansas-room-34/
END:VEVENT
BEGIN:VEVENT
DTSTART;TZID=America/Chicago:20241231T100000
DTEND;TZID=America/Chicago:20241231T120000
DTSTAMP:20260424T074454
CREATED:20240508T211812Z
LAST-MODIFIED:20240508T211812Z
UID:824-1735639200-1735646400@www.atchisonlibrary.org
SUMMARY:Genealogy Board meeting (KS RM)
DESCRIPTION:
URL:https://www.atchisonlibrary.org/event/genealogy-board-meeting-ks-rm-8/
END:VEVENT
BEGIN:VEVENT
DTSTART;TZID=America/Chicago:20241231T100000
DTEND;TZID=America/Chicago:20241231T120000
DTSTAMP:20260424T074454
CREATED:20240423T013012Z
LAST-MODIFIED:20241230T182016Z
UID:303-1735639200-1735646400@www.atchisonlibrary.org
SUMMARY:Genealogy Meets For Assistance
DESCRIPTION:Connect with members of our Genealogy Team for assistance.
URL:https://www.atchisonlibrary.org/event/genealogy-meets-for-assistance-37/
LOCATION:401 Kansas Ave\, Atchison\, KS\, United States
CATEGORIES:Atchison Library
END:VEVENT
BEGIN:VEVENT
DTSTART;TZID=America/Chicago:20241231T100000
DTEND;TZID=America/Chicago:20241231T113000
DTSTAMP:20260424T074454
CREATED:20240508T211812Z
LAST-MODIFIED:20240508T211812Z
UID:827-1735639200-1735644600@www.atchisonlibrary.org
SUMMARY:Knitting Group
DESCRIPTION:Bring your yarn art\, any kind\, and chat with like minded crafters.
URL:https://www.atchisonlibrary.org/event/knitting-group-34/
END:VEVENT
BEGIN:VEVENT
DTSTART;TZID=America/Chicago:20241226T180000
DTEND;TZID=America/Chicago:20241226T193000
DTSTAMP:20260424T074454
CREATED:20240508T211812Z
LAST-MODIFIED:20240508T211812Z
UID:817-1735236000-1735241400@www.atchisonlibrary.org
SUMMARY:Open Mic Night
DESCRIPTION:
URL:https://www.atchisonlibrary.org/event/open-mic-night-8/
END:VEVENT
BEGIN:VEVENT
DTSTART;TZID=America/Chicago:20241225T180000
DTEND;TZID=America/Chicago:20241225T190000
DTSTAMP:20260424T074454
CREATED:20240508T211812Z
LAST-MODIFIED:20240508T211812Z
UID:812-1735149600-1735153200@www.atchisonlibrary.org
SUMMARY:Courage to Change (KS RM)
DESCRIPTION:Janie Handke and Mary Webb\n913-370-0589 (Janie)
URL:https://www.atchisonlibrary.org/event/courage-to-change-ks-rm-34/
END:VEVENT
BEGIN:VEVENT
DTSTART;TZID=America/Chicago:20241224T100000
DTEND;TZID=America/Chicago:20241224T120000
DTSTAMP:20260424T074454
CREATED:20240508T211812Z
LAST-MODIFIED:20240508T211812Z
UID:810-1735034400-1735041600@www.atchisonlibrary.org
SUMMARY:Genealogy Help in Kansas Room
DESCRIPTION:Members of the Atchison County Kansas Genealogical Society will be in the Kansas Room with an open door for anyone needing genealogical research assistance. Come on in and ask them about the local history and the records we have on our community.
URL:https://www.atchisonlibrary.org/event/genealogy-help-in-kansas-room-33/
END:VEVENT
BEGIN:VEVENT
DTSTART;TZID=America/Chicago:20241224T100000
DTEND;TZID=America/Chicago:20241224T120000
DTSTAMP:20260424T074454
CREATED:20240423T013012Z
LAST-MODIFIED:20241223T182012Z
UID:302-1735034400-1735041600@www.atchisonlibrary.org
SUMMARY:Genealogy Meets For Assistance
DESCRIPTION:Connect with members of our Genealogy Team for assistance.
URL:https://www.atchisonlibrary.org/event/genealogy-meets-for-assistance-36/
LOCATION:401 Kansas Ave\, Atchison\, KS\, United States
CATEGORIES:Atchison Library
END:VEVENT
BEGIN:VEVENT
DTSTART;TZID=America/Chicago:20241224T100000
DTEND;TZID=America/Chicago:20241224T113000
DTSTAMP:20260424T074454
CREATED:20240508T211812Z
LAST-MODIFIED:20240508T211812Z
UID:811-1735034400-1735039800@www.atchisonlibrary.org
SUMMARY:Knitting Group
DESCRIPTION:Bring your yarn art\, any kind\, and chat with like minded crafters.
URL:https://www.atchisonlibrary.org/event/knitting-group-33/
END:VEVENT
BEGIN:VEVENT
DTSTART;TZID=America/Chicago:20241223T190000
DTEND;TZID=America/Chicago:20241223T200000
DTSTAMP:20260424T074454
CREATED:20240411T205257Z
LAST-MODIFIED:20240422T004548Z
UID:170-1734980400-1734984000@www.atchisonlibrary.org
SUMMARY:Atchison Public Library Board Meeting
DESCRIPTION:Atchison Public Library Board of Directors meets every Fourth Monday of each month. This meeting is open to the public.
URL:https://www.atchisonlibrary.org/event/atchison-public-library-board-meeting-9/
LOCATION:401 Kansas Ave\, Atchison\, KS 66002\, USA
CATEGORIES:Atchison Library
END:VEVENT
BEGIN:VEVENT
DTSTART;TZID=America/Chicago:20241223T180000
DTEND;TZID=America/Chicago:20241223T190000
DTSTAMP:20260424T074454
CREATED:20240508T211812Z
LAST-MODIFIED:20240508T211812Z
UID:809-1734976800-1734980400@www.atchisonlibrary.org
SUMMARY:Library Board Meeting
DESCRIPTION:
URL:https://www.atchisonlibrary.org/event/library-board-meeting-8/
END:VEVENT
BEGIN:VEVENT
DTSTART;TZID=America/Chicago:20241223T180000
DTEND;TZID=America/Chicago:20241223T190000
DTSTAMP:20260424T074454
CREATED:20240423T013012Z
LAST-MODIFIED:20241223T182012Z
UID:301-1734976800-1734980400@www.atchisonlibrary.org
SUMMARY:Atchison Public Library Board Meeting
DESCRIPTION:Atchison Public Library Board of Directors meets every Fourth Monday of each month. This meeting is open to the public.
URL:https://www.atchisonlibrary.org/event/atchison-public-library-board-meeting-32/
LOCATION:401 Kansas Ave\, Atchison\, KS\, United States
CATEGORIES:Atchison Library
END:VEVENT
BEGIN:VEVENT
DTSTART;TZID=America/Chicago:20241219T173000
DTEND;TZID=America/Chicago:20241219T193000
DTSTAMP:20260424T074454
CREATED:20240508T211812Z
LAST-MODIFIED:20240508T211812Z
UID:808-1734629400-1734636600@www.atchisonlibrary.org
SUMMARY:Mary craft night
DESCRIPTION:
URL:https://www.atchisonlibrary.org/event/mary-craft-night-8/
END:VEVENT
BEGIN:VEVENT
DTSTART;TZID=America/Chicago:20241219T143000
DTEND;TZID=America/Chicago:20241219T153000
DTSTAMP:20260424T074454
CREATED:20240508T211812Z
LAST-MODIFIED:20240508T211812Z
UID:807-1734618600-1734622200@www.atchisonlibrary.org
SUMMARY:Jake LaTurner rep (KS RM)
DESCRIPTION:
URL:https://www.atchisonlibrary.org/event/jake-laturner-rep-ks-rm-8/
END:VEVENT
BEGIN:VEVENT
DTSTART;TZID=America/Chicago:20241218T180000
DTEND;TZID=America/Chicago:20241218T190000
DTSTAMP:20260424T074454
CREATED:20240508T211812Z
LAST-MODIFIED:20240508T211812Z
UID:805-1734544800-1734548400@www.atchisonlibrary.org
SUMMARY:Courage to Change (KS RM)
DESCRIPTION:Janie Handke and Mary Webb\n913-370-0589 (Janie)
URL:https://www.atchisonlibrary.org/event/courage-to-change-ks-rm-33/
END:VEVENT
BEGIN:VEVENT
DTSTART;TZID=America/Chicago:20241217T100000
DTEND;TZID=America/Chicago:20241217T120000
DTSTAMP:20260424T074454
CREATED:20240508T211811Z
LAST-MODIFIED:20240508T211811Z
UID:803-1734429600-1734436800@www.atchisonlibrary.org
SUMMARY:Genealogy Help in Kansas Room
DESCRIPTION:Members of the Atchison County Kansas Genealogical Society will be in the Kansas Room with an open door for anyone needing genealogical research assistance. Come on in and ask them about the local history and the records we have on our community.
URL:https://www.atchisonlibrary.org/event/genealogy-help-in-kansas-room-32/
END:VEVENT
BEGIN:VEVENT
DTSTART;TZID=America/Chicago:20241217T100000
DTEND;TZID=America/Chicago:20241217T120000
DTSTAMP:20260424T074454
CREATED:20240423T013012Z
LAST-MODIFIED:20241216T180540Z
UID:300-1734429600-1734436800@www.atchisonlibrary.org
SUMMARY:Genealogy Meets For Assistance
DESCRIPTION:Connect with members of our Genealogy Team for assistance.
URL:https://www.atchisonlibrary.org/event/genealogy-meets-for-assistance-35/
LOCATION:401 Kansas Ave\, Atchison\, KS\, United States
CATEGORIES:Atchison Library
END:VEVENT
BEGIN:VEVENT
DTSTART;TZID=America/Chicago:20241217T100000
DTEND;TZID=America/Chicago:20241217T113000
DTSTAMP:20260424T074454
CREATED:20240508T211811Z
LAST-MODIFIED:20240508T211811Z
UID:804-1734429600-1734435000@www.atchisonlibrary.org
SUMMARY:Knitting Group
DESCRIPTION:Bring your yarn art\, any kind\, and chat with like minded crafters.
URL:https://www.atchisonlibrary.org/event/knitting-group-32/
END:VEVENT
BEGIN:VEVENT
DTSTART;TZID=America/Chicago:20241212T180000
DTEND;TZID=America/Chicago:20241212T190000
DTSTAMP:20260424T074454
CREATED:20240508T211811Z
LAST-MODIFIED:20240508T211811Z
UID:802-1734026400-1734030000@www.atchisonlibrary.org
SUMMARY:Library Book Club
DESCRIPTION:
URL:https://www.atchisonlibrary.org/event/library-book-club-8/
END:VEVENT
BEGIN:VEVENT
DTSTART;TZID=America/Chicago:20241211T180000
DTEND;TZID=America/Chicago:20241211T190000
DTSTAMP:20260424T074454
CREATED:20240508T211811Z
LAST-MODIFIED:20240508T211811Z
UID:800-1733940000-1733943600@www.atchisonlibrary.org
SUMMARY:Courage to Change (KS RM)
DESCRIPTION:Janie Handke and Mary Webb\n913-370-0589 (Janie)
URL:https://www.atchisonlibrary.org/event/courage-to-change-ks-rm-32/
END:VEVENT
BEGIN:VEVENT
DTSTART;TZID=America/Chicago:20241210T123000
DTEND;TZID=America/Chicago:20241210T150000
DTSTAMP:20260424T074454
CREATED:20240508T211811Z
LAST-MODIFIED:20240508T211811Z
UID:799-1733833800-1733842800@www.atchisonlibrary.org
SUMMARY:Midday Movie
DESCRIPTION:Mary program
URL:https://www.atchisonlibrary.org/event/midday-movie-7/
END:VEVENT
BEGIN:VEVENT
DTSTART;TZID=America/Chicago:20241210T100000
DTEND;TZID=America/Chicago:20241210T120000
DTSTAMP:20260424T074454
CREATED:20240508T211811Z
LAST-MODIFIED:20240508T211811Z
UID:798-1733824800-1733832000@www.atchisonlibrary.org
SUMMARY:Genealogy Help in Kansas Room
DESCRIPTION:Members of the Atchison County Kansas Genealogical Society will be in the Kansas Room with an open door for anyone needing genealogical research assistance. Come on in and ask them about the local history and the records we have on our community.
URL:https://www.atchisonlibrary.org/event/genealogy-help-in-kansas-room-31/
END:VEVENT
BEGIN:VEVENT
DTSTART;TZID=America/Chicago:20241210T100000
DTEND;TZID=America/Chicago:20241210T120000
DTSTAMP:20260424T074454
CREATED:20240423T013012Z
LAST-MODIFIED:20241210T175028Z
UID:299-1733824800-1733832000@www.atchisonlibrary.org
SUMMARY:Genealogy Meets For Assistance
DESCRIPTION:Connect with members of our Genealogy Team for assistance.
URL:https://www.atchisonlibrary.org/event/genealogy-meets-for-assistance-34/
LOCATION:401 Kansas Ave\, Atchison\, KS\, United States
CATEGORIES:Atchison Library
END:VEVENT
END:VCALENDAR