BEGIN:VCALENDAR
VERSION:2.0
PRODID:-//Atchison Public Library - ECPv6.15.20//NONSGML v1.0//EN
CALSCALE:GREGORIAN
METHOD:PUBLISH
X-WR-CALNAME:Atchison Public Library
X-ORIGINAL-URL:https://www.atchisonlibrary.org
X-WR-CALDESC:Events for Atchison Public Library
REFRESH-INTERVAL;VALUE=DURATION:PT1H
X-Robots-Tag:noindex
X-PUBLISHED-TTL:PT1H
BEGIN:VTIMEZONE
TZID:America/Chicago
BEGIN:DAYLIGHT
TZOFFSETFROM:-0600
TZOFFSETTO:-0500
TZNAME:CDT
DTSTART:20230312T080000
END:DAYLIGHT
BEGIN:STANDARD
TZOFFSETFROM:-0500
TZOFFSETTO:-0600
TZNAME:CST
DTSTART:20231105T070000
END:STANDARD
BEGIN:DAYLIGHT
TZOFFSETFROM:-0600
TZOFFSETTO:-0500
TZNAME:CDT
DTSTART:20240310T080000
END:DAYLIGHT
BEGIN:STANDARD
TZOFFSETFROM:-0500
TZOFFSETTO:-0600
TZNAME:CST
DTSTART:20241103T070000
END:STANDARD
BEGIN:DAYLIGHT
TZOFFSETFROM:-0600
TZOFFSETTO:-0500
TZNAME:CDT
DTSTART:20250309T080000
END:DAYLIGHT
BEGIN:STANDARD
TZOFFSETFROM:-0500
TZOFFSETTO:-0600
TZNAME:CST
DTSTART:20251102T070000
END:STANDARD
BEGIN:DAYLIGHT
TZOFFSETFROM:-0600
TZOFFSETTO:-0500
TZNAME:CDT
DTSTART:20260308T080000
END:DAYLIGHT
BEGIN:STANDARD
TZOFFSETFROM:-0500
TZOFFSETTO:-0600
TZNAME:CST
DTSTART:20261101T070000
END:STANDARD
END:VTIMEZONE
BEGIN:VEVENT
DTSTART;TZID=America/Chicago:20241126T100000
DTEND;TZID=America/Chicago:20241126T120000
DTSTAMP:20260425T231420
CREATED:20240423T013012Z
LAST-MODIFIED:20241126T165012Z
UID:297-1732615200-1732622400@www.atchisonlibrary.org
SUMMARY:Genealogy Meets For Assistance
DESCRIPTION:Connect with members of our Genealogy Team for assistance.
URL:https://www.atchisonlibrary.org/event/genealogy-meets-for-assistance-32/
LOCATION:401 Kansas Ave\, Atchison\, KS\, United States
CATEGORIES:Atchison Library
END:VEVENT
BEGIN:VEVENT
DTSTART;TZID=America/Chicago:20241203T100000
DTEND;TZID=America/Chicago:20241203T120000
DTSTAMP:20260425T231420
CREATED:20240423T013012Z
LAST-MODIFIED:20241203T172007Z
UID:298-1733220000-1733227200@www.atchisonlibrary.org
SUMMARY:Genealogy Meets For Assistance
DESCRIPTION:Connect with members of our Genealogy Team for assistance.
URL:https://www.atchisonlibrary.org/event/genealogy-meets-for-assistance-33/
LOCATION:401 Kansas Ave\, Atchison\, KS\, United States
CATEGORIES:Atchison Library
END:VEVENT
BEGIN:VEVENT
DTSTART;TZID=America/Chicago:20241210T100000
DTEND;TZID=America/Chicago:20241210T120000
DTSTAMP:20260425T231420
CREATED:20240423T013012Z
LAST-MODIFIED:20241210T175028Z
UID:299-1733824800-1733832000@www.atchisonlibrary.org
SUMMARY:Genealogy Meets For Assistance
DESCRIPTION:Connect with members of our Genealogy Team for assistance.
URL:https://www.atchisonlibrary.org/event/genealogy-meets-for-assistance-34/
LOCATION:401 Kansas Ave\, Atchison\, KS\, United States
CATEGORIES:Atchison Library
END:VEVENT
BEGIN:VEVENT
DTSTART;TZID=America/Chicago:20241217T100000
DTEND;TZID=America/Chicago:20241217T120000
DTSTAMP:20260425T231420
CREATED:20240423T013012Z
LAST-MODIFIED:20241216T180540Z
UID:300-1734429600-1734436800@www.atchisonlibrary.org
SUMMARY:Genealogy Meets For Assistance
DESCRIPTION:Connect with members of our Genealogy Team for assistance.
URL:https://www.atchisonlibrary.org/event/genealogy-meets-for-assistance-35/
LOCATION:401 Kansas Ave\, Atchison\, KS\, United States
CATEGORIES:Atchison Library
END:VEVENT
BEGIN:VEVENT
DTSTART;TZID=America/Chicago:20241223T180000
DTEND;TZID=America/Chicago:20241223T190000
DTSTAMP:20260425T231420
CREATED:20240423T013012Z
LAST-MODIFIED:20241223T182012Z
UID:301-1734976800-1734980400@www.atchisonlibrary.org
SUMMARY:Atchison Public Library Board Meeting
DESCRIPTION:Atchison Public Library Board of Directors meets every Fourth Monday of each month. This meeting is open to the public.
URL:https://www.atchisonlibrary.org/event/atchison-public-library-board-meeting-32/
LOCATION:401 Kansas Ave\, Atchison\, KS\, United States
CATEGORIES:Atchison Library
END:VEVENT
BEGIN:VEVENT
DTSTART;TZID=America/Chicago:20241223T190000
DTEND;TZID=America/Chicago:20241223T200000
DTSTAMP:20260425T231420
CREATED:20240411T205257Z
LAST-MODIFIED:20240422T004548Z
UID:170-1734980400-1734984000@www.atchisonlibrary.org
SUMMARY:Atchison Public Library Board Meeting
DESCRIPTION:Atchison Public Library Board of Directors meets every Fourth Monday of each month. This meeting is open to the public.
URL:https://www.atchisonlibrary.org/event/atchison-public-library-board-meeting-9/
LOCATION:401 Kansas Ave\, Atchison\, KS 66002\, USA
CATEGORIES:Atchison Library
END:VEVENT
BEGIN:VEVENT
DTSTART;TZID=America/Chicago:20241224T100000
DTEND;TZID=America/Chicago:20241224T120000
DTSTAMP:20260425T231420
CREATED:20240423T013012Z
LAST-MODIFIED:20241223T182012Z
UID:302-1735034400-1735041600@www.atchisonlibrary.org
SUMMARY:Genealogy Meets For Assistance
DESCRIPTION:Connect with members of our Genealogy Team for assistance.
URL:https://www.atchisonlibrary.org/event/genealogy-meets-for-assistance-36/
LOCATION:401 Kansas Ave\, Atchison\, KS\, United States
CATEGORIES:Atchison Library
END:VEVENT
BEGIN:VEVENT
DTSTART;TZID=America/Chicago:20241231T100000
DTEND;TZID=America/Chicago:20241231T120000
DTSTAMP:20260425T231420
CREATED:20240423T013012Z
LAST-MODIFIED:20241230T182016Z
UID:303-1735639200-1735646400@www.atchisonlibrary.org
SUMMARY:Genealogy Meets For Assistance
DESCRIPTION:Connect with members of our Genealogy Team for assistance.
URL:https://www.atchisonlibrary.org/event/genealogy-meets-for-assistance-37/
LOCATION:401 Kansas Ave\, Atchison\, KS\, United States
CATEGORIES:Atchison Library
END:VEVENT
BEGIN:VEVENT
DTSTART;TZID=America/Chicago:20250107T100000
DTEND;TZID=America/Chicago:20250107T120000
DTSTAMP:20260425T231420
CREATED:20240423T013012Z
LAST-MODIFIED:20250106T185016Z
UID:304-1736244000-1736251200@www.atchisonlibrary.org
SUMMARY:Genealogy Meets For Assistance
DESCRIPTION:Connect with members of our Genealogy Team for assistance.
URL:https://www.atchisonlibrary.org/event/genealogy-meets-for-assistance-38/
LOCATION:401 Kansas Ave\, Atchison\, KS\, United States
CATEGORIES:Atchison Library
END:VEVENT
BEGIN:VEVENT
DTSTART;TZID=America/Chicago:20250114T100000
DTEND;TZID=America/Chicago:20250114T120000
DTSTAMP:20260425T231420
CREATED:20240423T013012Z
LAST-MODIFIED:20250113T193519Z
UID:305-1736848800-1736856000@www.atchisonlibrary.org
SUMMARY:Genealogy Meets For Assistance
DESCRIPTION:Connect with members of our Genealogy Team for assistance.
URL:https://www.atchisonlibrary.org/event/genealogy-meets-for-assistance-39/
LOCATION:401 Kansas Ave\, Atchison\, KS\, United States
CATEGORIES:Atchison Library
END:VEVENT
BEGIN:VEVENT
DTSTART;TZID=America/Chicago:20250121T100000
DTEND;TZID=America/Chicago:20250121T120000
DTSTAMP:20260425T231420
CREATED:20240423T013012Z
LAST-MODIFIED:20250120T195014Z
UID:306-1737453600-1737460800@www.atchisonlibrary.org
SUMMARY:Genealogy Meets For Assistance
DESCRIPTION:Connect with members of our Genealogy Team for assistance.
URL:https://www.atchisonlibrary.org/event/genealogy-meets-for-assistance-40/
LOCATION:401 Kansas Ave\, Atchison\, KS\, United States
CATEGORIES:Atchison Library
END:VEVENT
BEGIN:VEVENT
DTSTART;TZID=America/Chicago:20250127T180000
DTEND;TZID=America/Chicago:20250127T190000
DTSTAMP:20260425T231420
CREATED:20240423T013012Z
LAST-MODIFIED:20250127T203541Z
UID:307-1738000800-1738004400@www.atchisonlibrary.org
SUMMARY:Atchison Public Library Board Meeting
DESCRIPTION:Atchison Public Library Board of Directors meets every Fourth Monday of each month. This meeting is open to the public.
URL:https://www.atchisonlibrary.org/event/atchison-public-library-board-meeting-33/
LOCATION:401 Kansas Ave\, Atchison\, KS\, United States
CATEGORIES:Atchison Library
END:VEVENT
BEGIN:VEVENT
DTSTART;TZID=America/Chicago:20250127T190000
DTEND;TZID=America/Chicago:20250127T200000
DTSTAMP:20260425T231420
CREATED:20240411T205259Z
LAST-MODIFIED:20240422T004548Z
UID:181-1738004400-1738008000@www.atchisonlibrary.org
SUMMARY:Atchison Public Library Board Meeting
DESCRIPTION:Atchison Public Library Board of Directors meets every Fourth Monday of each month. This meeting is open to the public.
URL:https://www.atchisonlibrary.org/event/atchison-public-library-board-meeting-10/
LOCATION:401 Kansas Ave\, Atchison\, KS 66002\, USA
CATEGORIES:Atchison Library
END:VEVENT
BEGIN:VEVENT
DTSTART;TZID=America/Chicago:20250128T100000
DTEND;TZID=America/Chicago:20250128T120000
DTSTAMP:20260425T231420
CREATED:20240423T013012Z
LAST-MODIFIED:20250127T203541Z
UID:308-1738058400-1738065600@www.atchisonlibrary.org
SUMMARY:Genealogy Meets For Assistance
DESCRIPTION:Connect with members of our Genealogy Team for assistance.
URL:https://www.atchisonlibrary.org/event/genealogy-meets-for-assistance-41/
LOCATION:401 Kansas Ave\, Atchison\, KS\, United States
CATEGORIES:Atchison Library
END:VEVENT
BEGIN:VEVENT
DTSTART;TZID=America/Chicago:20250204T100000
DTEND;TZID=America/Chicago:20250204T120000
DTSTAMP:20260425T231420
CREATED:20240423T013012Z
LAST-MODIFIED:20250203T213522Z
UID:309-1738663200-1738670400@www.atchisonlibrary.org
SUMMARY:Genealogy Meets For Assistance
DESCRIPTION:Connect with members of our Genealogy Team for assistance.
URL:https://www.atchisonlibrary.org/event/genealogy-meets-for-assistance-42/
LOCATION:401 Kansas Ave\, Atchison\, KS\, United States
CATEGORIES:Atchison Library
END:VEVENT
BEGIN:VEVENT
DTSTART;TZID=America/Chicago:20250211T100000
DTEND;TZID=America/Chicago:20250211T120000
DTSTAMP:20260425T231420
CREATED:20240423T013012Z
LAST-MODIFIED:20250210T213511Z
UID:310-1739268000-1739275200@www.atchisonlibrary.org
SUMMARY:Genealogy Meets For Assistance
DESCRIPTION:Connect with members of our Genealogy Team for assistance.
URL:https://www.atchisonlibrary.org/event/genealogy-meets-for-assistance-43/
LOCATION:401 Kansas Ave\, Atchison\, KS\, United States
CATEGORIES:Atchison Library
END:VEVENT
BEGIN:VEVENT
DTSTART;TZID=America/Chicago:20250218T100000
DTEND;TZID=America/Chicago:20250218T120000
DTSTAMP:20260425T231420
CREATED:20240423T013012Z
LAST-MODIFIED:20250217T222059Z
UID:311-1739872800-1739880000@www.atchisonlibrary.org
SUMMARY:Genealogy Meets For Assistance
DESCRIPTION:Connect with members of our Genealogy Team for assistance.
URL:https://www.atchisonlibrary.org/event/genealogy-meets-for-assistance-44/
LOCATION:401 Kansas Ave\, Atchison\, KS\, United States
CATEGORIES:Atchison Library
END:VEVENT
BEGIN:VEVENT
DTSTART;TZID=America/Chicago:20250224T180000
DTEND;TZID=America/Chicago:20250224T190000
DTSTAMP:20260425T231420
CREATED:20240423T013013Z
LAST-MODIFIED:20250224T225030Z
UID:312-1740420000-1740423600@www.atchisonlibrary.org
SUMMARY:Atchison Public Library Board Meeting
DESCRIPTION:Atchison Public Library Board of Directors meets every Fourth Monday of each month. This meeting is open to the public.
URL:https://www.atchisonlibrary.org/event/atchison-public-library-board-meeting-34/
LOCATION:401 Kansas Ave\, Atchison\, KS\, United States
CATEGORIES:Atchison Library
END:VEVENT
BEGIN:VEVENT
DTSTART;TZID=America/Chicago:20250224T190000
DTEND;TZID=America/Chicago:20250224T200000
DTSTAMP:20260425T231420
CREATED:20240411T205259Z
LAST-MODIFIED:20240422T004548Z
UID:182-1740423600-1740427200@www.atchisonlibrary.org
SUMMARY:Atchison Public Library Board Meeting
DESCRIPTION:Atchison Public Library Board of Directors meets every Fourth Monday of each month. This meeting is open to the public.
URL:https://www.atchisonlibrary.org/event/atchison-public-library-board-meeting-11/
LOCATION:401 Kansas Ave\, Atchison\, KS 66002\, USA
CATEGORIES:Atchison Library
END:VEVENT
BEGIN:VEVENT
DTSTART;TZID=America/Chicago:20250225T100000
DTEND;TZID=America/Chicago:20250225T120000
DTSTAMP:20260425T231420
CREATED:20240423T013013Z
LAST-MODIFIED:20250224T225030Z
UID:313-1740477600-1740484800@www.atchisonlibrary.org
SUMMARY:Genealogy Meets For Assistance
DESCRIPTION:Connect with members of our Genealogy Team for assistance.
URL:https://www.atchisonlibrary.org/event/genealogy-meets-for-assistance-45/
LOCATION:401 Kansas Ave\, Atchison\, KS\, United States
CATEGORIES:Atchison Library
END:VEVENT
BEGIN:VEVENT
DTSTART;TZID=America/Chicago:20250304T100000
DTEND;TZID=America/Chicago:20250304T120000
DTSTAMP:20260425T231420
CREATED:20240423T013013Z
LAST-MODIFIED:20250303T232010Z
UID:314-1741082400-1741089600@www.atchisonlibrary.org
SUMMARY:Genealogy Meets For Assistance
DESCRIPTION:Connect with members of our Genealogy Team for assistance.
URL:https://www.atchisonlibrary.org/event/genealogy-meets-for-assistance-46/
LOCATION:401 Kansas Ave\, Atchison\, KS\, United States
CATEGORIES:Atchison Library
END:VEVENT
BEGIN:VEVENT
DTSTART;TZID=America/Chicago:20250311T100000
DTEND;TZID=America/Chicago:20250311T120000
DTSTAMP:20260425T231420
CREATED:20240423T013013Z
LAST-MODIFIED:20250310T233513Z
UID:315-1741687200-1741694400@www.atchisonlibrary.org
SUMMARY:Genealogy Meets For Assistance
DESCRIPTION:Connect with members of our Genealogy Team for assistance.
URL:https://www.atchisonlibrary.org/event/genealogy-meets-for-assistance-47/
LOCATION:401 Kansas Ave\, Atchison\, KS\, United States
CATEGORIES:Atchison Library
END:VEVENT
BEGIN:VEVENT
DTSTART;TZID=America/Chicago:20250318T100000
DTEND;TZID=America/Chicago:20250318T120000
DTSTAMP:20260425T231420
CREATED:20240423T013013Z
LAST-MODIFIED:20250317T235012Z
UID:316-1742292000-1742299200@www.atchisonlibrary.org
SUMMARY:Genealogy Meets For Assistance
DESCRIPTION:Connect with members of our Genealogy Team for assistance.
URL:https://www.atchisonlibrary.org/event/genealogy-meets-for-assistance-48/
LOCATION:401 Kansas Ave\, Atchison\, KS\, United States
CATEGORIES:Atchison Library
END:VEVENT
BEGIN:VEVENT
DTSTART;TZID=America/Chicago:20250324T180000
DTEND;TZID=America/Chicago:20250324T190000
DTSTAMP:20260425T231420
CREATED:20240423T013013Z
LAST-MODIFIED:20250324T235149Z
UID:317-1742839200-1742842800@www.atchisonlibrary.org
SUMMARY:Atchison Public Library Board Meeting
DESCRIPTION:Atchison Public Library Board of Directors meets every Fourth Monday of each month. This meeting is open to the public.
URL:https://www.atchisonlibrary.org/event/atchison-public-library-board-meeting-35/
LOCATION:401 Kansas Ave\, Atchison\, KS\, United States
CATEGORIES:Atchison Library
END:VEVENT
BEGIN:VEVENT
DTSTART;TZID=America/Chicago:20250324T190000
DTEND;TZID=America/Chicago:20250324T200000
DTSTAMP:20260425T231420
CREATED:20240411T205259Z
LAST-MODIFIED:20240422T004548Z
UID:183-1742842800-1742846400@www.atchisonlibrary.org
SUMMARY:Atchison Public Library Board Meeting
DESCRIPTION:Atchison Public Library Board of Directors meets every Fourth Monday of each month. This meeting is open to the public.
URL:https://www.atchisonlibrary.org/event/atchison-public-library-board-meeting-12/
LOCATION:401 Kansas Ave\, Atchison\, KS 66002\, USA
CATEGORIES:Atchison Library
END:VEVENT
BEGIN:VEVENT
DTSTART;TZID=America/Chicago:20250325T100000
DTEND;TZID=America/Chicago:20250325T120000
DTSTAMP:20260425T231420
CREATED:20240423T013013Z
LAST-MODIFIED:20250324T235149Z
UID:318-1742896800-1742904000@www.atchisonlibrary.org
SUMMARY:Genealogy Meets For Assistance
DESCRIPTION:Connect with members of our Genealogy Team for assistance.
URL:https://www.atchisonlibrary.org/event/genealogy-meets-for-assistance-49/
LOCATION:401 Kansas Ave\, Atchison\, KS\, United States
CATEGORIES:Atchison Library
END:VEVENT
BEGIN:VEVENT
DTSTART;TZID=America/Chicago:20250401T100000
DTEND;TZID=America/Chicago:20250401T120000
DTSTAMP:20260425T231420
CREATED:20240423T013013Z
LAST-MODIFIED:20250331T235014Z
UID:319-1743501600-1743508800@www.atchisonlibrary.org
SUMMARY:Genealogy Meets For Assistance
DESCRIPTION:Connect with members of our Genealogy Team for assistance.
URL:https://www.atchisonlibrary.org/event/genealogy-meets-for-assistance-50/
LOCATION:401 Kansas Ave\, Atchison\, KS\, United States
CATEGORIES:Atchison Library
END:VEVENT
BEGIN:VEVENT
DTSTART;TZID=America/Chicago:20250408T100000
DTEND;TZID=America/Chicago:20250408T120000
DTSTAMP:20260425T231420
CREATED:20240423T013013Z
LAST-MODIFIED:20250408T163532Z
UID:320-1744106400-1744113600@www.atchisonlibrary.org
SUMMARY:Genealogy Meets For Assistance
DESCRIPTION:Connect with members of our Genealogy Team for assistance.
URL:https://www.atchisonlibrary.org/event/genealogy-meets-for-assistance-51/
LOCATION:401 Kansas Ave\, Atchison\, KS\, United States
CATEGORIES:Atchison Library
END:VEVENT
BEGIN:VEVENT
DTSTART;TZID=America/Chicago:20250415T100000
DTEND;TZID=America/Chicago:20250415T120000
DTSTAMP:20260425T231420
CREATED:20240423T013013Z
LAST-MODIFIED:20250414T170528Z
UID:321-1744711200-1744718400@www.atchisonlibrary.org
SUMMARY:Genealogy Meets For Assistance
DESCRIPTION:Connect with members of our Genealogy Team for assistance.
URL:https://www.atchisonlibrary.org/event/genealogy-meets-for-assistance-52/
LOCATION:401 Kansas Ave\, Atchison\, KS\, United States
CATEGORIES:Atchison Library
END:VEVENT
BEGIN:VEVENT
DTSTART;TZID=America/Chicago:20250422T100000
DTEND;TZID=America/Chicago:20250422T120000
DTSTAMP:20260425T231420
CREATED:20240423T013013Z
LAST-MODIFIED:20250418T170517Z
UID:322-1745316000-1745323200@www.atchisonlibrary.org
SUMMARY:Genealogy Meets For Assistance
DESCRIPTION:Connect with members of our Genealogy Team for assistance.
URL:https://www.atchisonlibrary.org/event/genealogy-meets-for-assistance-53/
LOCATION:401 Kansas Ave\, Atchison\, KS\, United States
CATEGORIES:Atchison Library
END:VEVENT
END:VCALENDAR