BEGIN:VCALENDAR
VERSION:2.0
PRODID:-//Atchison Public Library - ECPv6.15.20//NONSGML v1.0//EN
CALSCALE:GREGORIAN
METHOD:PUBLISH
X-ORIGINAL-URL:https://www.atchisonlibrary.org
X-WR-CALDESC:Events for Atchison Public Library
REFRESH-INTERVAL;VALUE=DURATION:PT1H
X-Robots-Tag:noindex
X-PUBLISHED-TTL:PT1H
BEGIN:VTIMEZONE
TZID:America/Chicago
BEGIN:DAYLIGHT
TZOFFSETFROM:-0600
TZOFFSETTO:-0500
TZNAME:CDT
DTSTART:20230312T080000
END:DAYLIGHT
BEGIN:STANDARD
TZOFFSETFROM:-0500
TZOFFSETTO:-0600
TZNAME:CST
DTSTART:20231105T070000
END:STANDARD
BEGIN:DAYLIGHT
TZOFFSETFROM:-0600
TZOFFSETTO:-0500
TZNAME:CDT
DTSTART:20240310T080000
END:DAYLIGHT
BEGIN:STANDARD
TZOFFSETFROM:-0500
TZOFFSETTO:-0600
TZNAME:CST
DTSTART:20241103T070000
END:STANDARD
BEGIN:DAYLIGHT
TZOFFSETFROM:-0600
TZOFFSETTO:-0500
TZNAME:CDT
DTSTART:20250309T080000
END:DAYLIGHT
BEGIN:STANDARD
TZOFFSETFROM:-0500
TZOFFSETTO:-0600
TZNAME:CST
DTSTART:20251102T070000
END:STANDARD
END:VTIMEZONE
BEGIN:VEVENT
DTSTART;TZID=America/Chicago:20240923T190000
DTEND;TZID=America/Chicago:20240923T200000
DTSTAMP:20260425T090619
CREATED:20240411T205257Z
LAST-MODIFIED:20240422T004548Z
UID:167-1727118000-1727121600@www.atchisonlibrary.org
SUMMARY:Atchison Public Library Board Meeting
DESCRIPTION:Atchison Public Library Board of Directors meets every Fourth Monday of each month. This meeting is open to the public.
URL:https://www.atchisonlibrary.org/event/atchison-public-library-board-meeting-6/
LOCATION:401 Kansas Ave\, Atchison\, KS 66002\, USA
CATEGORIES:Atchison Library
END:VEVENT
BEGIN:VEVENT
DTSTART;TZID=America/Chicago:20240923T180000
DTEND;TZID=America/Chicago:20240923T190000
DTSTAMP:20260425T090619
CREATED:20240423T013011Z
LAST-MODIFIED:20240923T220516Z
UID:285-1727114400-1727118000@www.atchisonlibrary.org
SUMMARY:Atchison Public Library Board Meeting
DESCRIPTION:Atchison Public Library Board of Directors meets every Fourth Monday of each month. This meeting is open to the public.
URL:https://www.atchisonlibrary.org/event/atchison-public-library-board-meeting-29/
LOCATION:401 Kansas Ave\, Atchison\, KS\, United States
CATEGORIES:Atchison Library
END:VEVENT
BEGIN:VEVENT
DTSTART;TZID=America/Chicago:20240917T100000
DTEND;TZID=America/Chicago:20240917T120000
DTSTAMP:20260425T090619
CREATED:20240423T013011Z
LAST-MODIFIED:20240916T215012Z
UID:284-1726567200-1726574400@www.atchisonlibrary.org
SUMMARY:Genealogy Meets For Assistance
DESCRIPTION:Connect with members of our Genealogy Team for assistance.
URL:https://www.atchisonlibrary.org/event/genealogy-meets-for-assistance-22/
LOCATION:401 Kansas Ave\, Atchison\, KS\, United States
CATEGORIES:Atchison Library
END:VEVENT
BEGIN:VEVENT
DTSTART;TZID=America/Chicago:20240910T100000
DTEND;TZID=America/Chicago:20240910T120000
DTSTAMP:20260425T090619
CREATED:20240423T013011Z
LAST-MODIFIED:20240909T215103Z
UID:283-1725962400-1725969600@www.atchisonlibrary.org
SUMMARY:Genealogy Meets For Assistance
DESCRIPTION:Connect with members of our Genealogy Team for assistance.
URL:https://www.atchisonlibrary.org/event/genealogy-meets-for-assistance-21/
LOCATION:401 Kansas Ave\, Atchison\, KS\, United States
CATEGORIES:Atchison Library
END:VEVENT
BEGIN:VEVENT
DTSTART;TZID=America/Chicago:20240903T100000
DTEND;TZID=America/Chicago:20240903T120000
DTSTAMP:20260425T090619
CREATED:20240423T013011Z
LAST-MODIFIED:20240902T212027Z
UID:282-1725357600-1725364800@www.atchisonlibrary.org
SUMMARY:Genealogy Meets For Assistance
DESCRIPTION:Connect with members of our Genealogy Team for assistance.
URL:https://www.atchisonlibrary.org/event/genealogy-meets-for-assistance-20/
LOCATION:401 Kansas Ave\, Atchison\, KS\, United States
CATEGORIES:Atchison Library
END:VEVENT
BEGIN:VEVENT
DTSTART;TZID=America/Chicago:20240827T100000
DTEND;TZID=America/Chicago:20240827T120000
DTSTAMP:20260425T090619
CREATED:20240423T013011Z
LAST-MODIFIED:20240826T212143Z
UID:281-1724752800-1724760000@www.atchisonlibrary.org
SUMMARY:Genealogy Meets For Assistance
DESCRIPTION:Connect with members of our Genealogy Team for assistance.
URL:https://www.atchisonlibrary.org/event/genealogy-meets-for-assistance-19/
LOCATION:401 Kansas Ave\, Atchison\, KS\, United States
CATEGORIES:Atchison Library
END:VEVENT
BEGIN:VEVENT
DTSTART;TZID=America/Chicago:20240826T190000
DTEND;TZID=America/Chicago:20240826T200000
DTSTAMP:20260425T090619
CREATED:20240411T205257Z
LAST-MODIFIED:20240422T004548Z
UID:166-1724698800-1724702400@www.atchisonlibrary.org
SUMMARY:Atchison Public Library Board Meeting
DESCRIPTION:Atchison Public Library Board of Directors meets every Fourth Monday of each month. This meeting is open to the public.
URL:https://www.atchisonlibrary.org/event/atchison-public-library-board-meeting-5/
LOCATION:401 Kansas Ave\, Atchison\, KS 66002\, USA
CATEGORIES:Atchison Library
END:VEVENT
BEGIN:VEVENT
DTSTART;TZID=America/Chicago:20240826T180000
DTEND;TZID=America/Chicago:20240826T190000
DTSTAMP:20260425T090619
CREATED:20240423T013011Z
LAST-MODIFIED:20240826T212143Z
UID:280-1724695200-1724698800@www.atchisonlibrary.org
SUMMARY:Atchison Public Library Board Meeting
DESCRIPTION:Atchison Public Library Board of Directors meets every Fourth Monday of each month. This meeting is open to the public.
URL:https://www.atchisonlibrary.org/event/atchison-public-library-board-meeting-28/
LOCATION:401 Kansas Ave\, Atchison\, KS\, United States
CATEGORIES:Atchison Library
END:VEVENT
BEGIN:VEVENT
DTSTART;TZID=America/Chicago:20240820T100000
DTEND;TZID=America/Chicago:20240820T120000
DTSTAMP:20260425T090619
CREATED:20240423T013011Z
LAST-MODIFIED:20240819T205119Z
UID:279-1724148000-1724155200@www.atchisonlibrary.org
SUMMARY:Genealogy Meets For Assistance
DESCRIPTION:Connect with members of our Genealogy Team for assistance.
URL:https://www.atchisonlibrary.org/event/genealogy-meets-for-assistance-18/
LOCATION:401 Kansas Ave\, Atchison\, KS\, United States
CATEGORIES:Atchison Library
END:VEVENT
BEGIN:VEVENT
DTSTART;TZID=America/Chicago:20240813T100000
DTEND;TZID=America/Chicago:20240813T120000
DTSTAMP:20260425T090619
CREATED:20240423T013011Z
LAST-MODIFIED:20240812T203537Z
UID:278-1723543200-1723550400@www.atchisonlibrary.org
SUMMARY:Genealogy Meets For Assistance
DESCRIPTION:Connect with members of our Genealogy Team for assistance.
URL:https://www.atchisonlibrary.org/event/genealogy-meets-for-assistance-17/
LOCATION:401 Kansas Ave\, Atchison\, KS\, United States
CATEGORIES:Atchison Library
END:VEVENT
BEGIN:VEVENT
DTSTART;TZID=America/Chicago:20240806T100000
DTEND;TZID=America/Chicago:20240806T120000
DTSTAMP:20260425T090619
CREATED:20240423T013010Z
LAST-MODIFIED:20240805T202008Z
UID:277-1722938400-1722945600@www.atchisonlibrary.org
SUMMARY:Genealogy Meets For Assistance
DESCRIPTION:Connect with members of our Genealogy Team for assistance.
URL:https://www.atchisonlibrary.org/event/genealogy-meets-for-assistance-16/
LOCATION:401 Kansas Ave\, Atchison\, KS\, United States
CATEGORIES:Atchison Library
END:VEVENT
BEGIN:VEVENT
DTSTART;TZID=America/Chicago:20240730T100000
DTEND;TZID=America/Chicago:20240730T120000
DTSTAMP:20260425T090619
CREATED:20240423T013010Z
LAST-MODIFIED:20240729T193510Z
UID:276-1722333600-1722340800@www.atchisonlibrary.org
SUMMARY:Genealogy Meets For Assistance
DESCRIPTION:Connect with members of our Genealogy Team for assistance.
URL:https://www.atchisonlibrary.org/event/genealogy-meets-for-assistance-15/
LOCATION:401 Kansas Ave\, Atchison\, KS\, United States
CATEGORIES:Atchison Library
END:VEVENT
BEGIN:VEVENT
DTSTART;TZID=America/Chicago:20240723T100000
DTEND;TZID=America/Chicago:20240723T120000
DTSTAMP:20260425T090619
CREATED:20240423T013010Z
LAST-MODIFIED:20240722T190508Z
UID:275-1721728800-1721736000@www.atchisonlibrary.org
SUMMARY:Genealogy Meets For Assistance
DESCRIPTION:Connect with members of our Genealogy Team for assistance.
URL:https://www.atchisonlibrary.org/event/genealogy-meets-for-assistance-14/
LOCATION:401 Kansas Ave\, Atchison\, KS\, United States
CATEGORIES:Atchison Library
END:VEVENT
BEGIN:VEVENT
DTSTART;TZID=America/Chicago:20240722T190000
DTEND;TZID=America/Chicago:20240722T200000
DTSTAMP:20260425T090619
CREATED:20240411T205257Z
LAST-MODIFIED:20240422T004548Z
UID:165-1721674800-1721678400@www.atchisonlibrary.org
SUMMARY:Atchison Public Library Board Meeting
DESCRIPTION:Atchison Public Library Board of Directors meets every Fourth Monday of each month. This meeting is open to the public.
URL:https://www.atchisonlibrary.org/event/atchison-public-library-board-meeting-4/
LOCATION:401 Kansas Ave\, Atchison\, KS 66002\, USA
CATEGORIES:Atchison Library
END:VEVENT
BEGIN:VEVENT
DTSTART;TZID=America/Chicago:20240722T180000
DTEND;TZID=America/Chicago:20240722T190000
DTSTAMP:20260425T090619
CREATED:20240423T013010Z
LAST-MODIFIED:20240722T190508Z
UID:274-1721671200-1721674800@www.atchisonlibrary.org
SUMMARY:Atchison Public Library Board Meeting
DESCRIPTION:Atchison Public Library Board of Directors meets every Fourth Monday of each month. This meeting is open to the public.
URL:https://www.atchisonlibrary.org/event/atchison-public-library-board-meeting-27/
LOCATION:401 Kansas Ave\, Atchison\, KS\, United States
CATEGORIES:Atchison Library
END:VEVENT
BEGIN:VEVENT
DTSTART;TZID=America/Chicago:20240716T100000
DTEND;TZID=America/Chicago:20240716T120000
DTSTAMP:20260425T090619
CREATED:20240423T013010Z
LAST-MODIFIED:20240715T185107Z
UID:273-1721124000-1721131200@www.atchisonlibrary.org
SUMMARY:Genealogy Meets For Assistance
DESCRIPTION:Connect with members of our Genealogy Team for assistance.
URL:https://www.atchisonlibrary.org/event/genealogy-meets-for-assistance-13/
LOCATION:401 Kansas Ave\, Atchison\, KS\, United States
CATEGORIES:Atchison Library
END:VEVENT
BEGIN:VEVENT
DTSTART;TZID=America/Chicago:20240709T100000
DTEND;TZID=America/Chicago:20240709T120000
DTSTAMP:20260425T090619
CREATED:20240423T013010Z
LAST-MODIFIED:20240708T182241Z
UID:272-1720519200-1720526400@www.atchisonlibrary.org
SUMMARY:Genealogy Meets For Assistance
DESCRIPTION:Connect with members of our Genealogy Team for assistance.
URL:https://www.atchisonlibrary.org/event/genealogy-meets-for-assistance-12/
LOCATION:401 Kansas Ave\, Atchison\, KS\, United States
CATEGORIES:Atchison Library
END:VEVENT
BEGIN:VEVENT
DTSTART;TZID=America/Chicago:20240702T100000
DTEND;TZID=America/Chicago:20240702T120000
DTSTAMP:20260425T090619
CREATED:20240423T013010Z
LAST-MODIFIED:20240701T175257Z
UID:271-1719914400-1719921600@www.atchisonlibrary.org
SUMMARY:Genealogy Meets For Assistance
DESCRIPTION:Connect with members of our Genealogy Team for assistance.
URL:https://www.atchisonlibrary.org/event/genealogy-meets-for-assistance-11/
LOCATION:401 Kansas Ave\, Atchison\, KS\, United States
CATEGORIES:Atchison Library
END:VEVENT
BEGIN:VEVENT
DTSTART;TZID=America/Chicago:20240625T100000
DTEND;TZID=America/Chicago:20240625T120000
DTSTAMP:20260425T090619
CREATED:20240423T013010Z
LAST-MODIFIED:20240624T173552Z
UID:270-1719309600-1719316800@www.atchisonlibrary.org
SUMMARY:Genealogy Meets For Assistance
DESCRIPTION:Connect with members of our Genealogy Team for assistance.
URL:https://www.atchisonlibrary.org/event/genealogy-meets-for-assistance-10/
LOCATION:401 Kansas Ave\, Atchison\, KS\, United States
CATEGORIES:Atchison Library
END:VEVENT
BEGIN:VEVENT
DTSTART;TZID=America/Chicago:20240624T190000
DTEND;TZID=America/Chicago:20240624T200000
DTSTAMP:20260425T090619
CREATED:20240411T205257Z
LAST-MODIFIED:20240422T004548Z
UID:164-1719255600-1719259200@www.atchisonlibrary.org
SUMMARY:Atchison Public Library Board Meeting
DESCRIPTION:Atchison Public Library Board of Directors meets every Fourth Monday of each month. This meeting is open to the public.
URL:https://www.atchisonlibrary.org/event/atchison-public-library-board-meeting-3/
LOCATION:401 Kansas Ave\, Atchison\, KS 66002\, USA
CATEGORIES:Atchison Library
END:VEVENT
BEGIN:VEVENT
DTSTART;TZID=America/Chicago:20240624T180000
DTEND;TZID=America/Chicago:20240624T190000
DTSTAMP:20260425T090619
CREATED:20240423T013010Z
LAST-MODIFIED:20240624T173551Z
UID:269-1719252000-1719255600@www.atchisonlibrary.org
SUMMARY:Atchison Public Library Board Meeting
DESCRIPTION:Atchison Public Library Board of Directors meets every Fourth Monday of each month. This meeting is open to the public.
URL:https://www.atchisonlibrary.org/event/atchison-public-library-board-meeting-26/
LOCATION:401 Kansas Ave\, Atchison\, KS\, United States
CATEGORIES:Atchison Library
END:VEVENT
BEGIN:VEVENT
DTSTART;TZID=America/Chicago:20240618T100000
DTEND;TZID=America/Chicago:20240618T120000
DTSTAMP:20260425T090619
CREATED:20240423T013010Z
LAST-MODIFIED:20240617T172008Z
UID:268-1718704800-1718712000@www.atchisonlibrary.org
SUMMARY:Genealogy Meets For Assistance
DESCRIPTION:Connect with members of our Genealogy Team for assistance.
URL:https://www.atchisonlibrary.org/event/genealogy-meets-for-assistance-9/
LOCATION:401 Kansas Ave\, Atchison\, KS\, United States
CATEGORIES:Atchison Library
END:VEVENT
BEGIN:VEVENT
DTSTART;TZID=America/Chicago:20240611T100000
DTEND;TZID=America/Chicago:20240611T120000
DTSTAMP:20260425T090619
CREATED:20240423T013010Z
LAST-MODIFIED:20240610T180655Z
UID:263-1718100000-1718107200@www.atchisonlibrary.org
SUMMARY:Genealogy Meets For Assistance
DESCRIPTION:Connect with members of our Genealogy Team for assistance.
URL:https://www.atchisonlibrary.org/event/genealogy-meets-for-assistance-8/
LOCATION:401 Kansas Ave\, Atchison\, KS 66002\, USA
CATEGORIES:Atchison Library
END:VEVENT
BEGIN:VEVENT
DTSTART;TZID=America/Chicago:20240604T100000
DTEND;TZID=America/Chicago:20240604T120000
DTSTAMP:20260425T090619
CREATED:20240423T013010Z
LAST-MODIFIED:20240603T175115Z
UID:260-1717495200-1717502400@www.atchisonlibrary.org
SUMMARY:Genealogy Meets For Assistance
DESCRIPTION:Connect with members of our Genealogy Team for assistance.
URL:https://www.atchisonlibrary.org/event/genealogy-meets-for-assistance-7/
LOCATION:401 Kansas Ave\, Atchison\, KS 66002\, USA
CATEGORIES:Atchison Library
END:VEVENT
BEGIN:VEVENT
DTSTART;TZID=America/Chicago:20240528T100000
DTEND;TZID=America/Chicago:20240528T120000
DTSTAMP:20260425T090619
CREATED:20240423T013010Z
LAST-MODIFIED:20240527T173713Z
UID:257-1716890400-1716897600@www.atchisonlibrary.org
SUMMARY:Genealogy Meets For Assistance
DESCRIPTION:Connect with members of our Genealogy Team for assistance.
URL:https://www.atchisonlibrary.org/event/genealogy-meets-for-assistance-6/
LOCATION:401 Kansas Ave\, Atchison\, KS 66002\, USA
CATEGORIES:Atchison Library
END:VEVENT
BEGIN:VEVENT
DTSTART;TZID=America/Chicago:20240527T180000
DTEND;TZID=America/Chicago:20240527T190000
DTSTAMP:20260425T090619
CREATED:20240411T205257Z
LAST-MODIFIED:20240508T210141Z
UID:163-1716832800-1716836400@www.atchisonlibrary.org
SUMMARY:Atchison Public Library Board Meeting
DESCRIPTION:  \nAtchison Public Library Board of Directors meets every Fourth Monday of each month. This meeting is open to the public.
URL:https://www.atchisonlibrary.org/event/atchison-public-library-board-meeting-2/
LOCATION:401 Kansas Ave\, Atchison\, KS 66002\, USA
CATEGORIES:Atchison Library
END:VEVENT
BEGIN:VEVENT
DTSTART;VALUE=DATE:20240527
DTEND;VALUE=DATE:20240528
DTSTAMP:20260425T090619
CREATED:20240507T213816Z
LAST-MODIFIED:20240507T213816Z
UID:580-1716768000-1716854399@www.atchisonlibrary.org
SUMMARY:Memorial Day
DESCRIPTION:The Library is closed in honor of the Memorial Day holiday.
URL:https://www.atchisonlibrary.org/event/memorial-day-2/
LOCATION:KS
CATEGORIES:Atchison Library
END:VEVENT
BEGIN:VEVENT
DTSTART;VALUE=DATE:20240527
DTEND;VALUE=DATE:20240528
DTSTAMP:20260425T090619
CREATED:20240507T213815Z
LAST-MODIFIED:20240527T173713Z
UID:579-1716768000-1716854399@www.atchisonlibrary.org
SUMMARY:Memorial Day
DESCRIPTION:The Library is closed in honor of the Memorial Day holiday.
URL:https://www.atchisonlibrary.org/event/memorial-day/
LOCATION:KS
CATEGORIES:Atchison Library
END:VEVENT
BEGIN:VEVENT
DTSTART;TZID=America/Chicago:20240521T100000
DTEND;TZID=America/Chicago:20240521T120000
DTSTAMP:20260425T090619
CREATED:20240423T013010Z
LAST-MODIFIED:20240520T173552Z
UID:254-1716285600-1716292800@www.atchisonlibrary.org
SUMMARY:Genealogy Meets For Assistance
DESCRIPTION:Connect with members of our Genealogy Team for assistance.
URL:https://www.atchisonlibrary.org/event/genealogy-meets-for-assistance-5/
LOCATION:401 Kansas Ave\, Atchison\, KS 66002\, USA
CATEGORIES:Atchison Library
END:VEVENT
BEGIN:VEVENT
DTSTART;TZID=America/Chicago:20240520T180000
DTEND;TZID=America/Chicago:20240520T190000
DTSTAMP:20260425T090619
CREATED:20240423T013010Z
LAST-MODIFIED:20240520T173552Z
UID:255-1716228000-1716231600@www.atchisonlibrary.org
SUMMARY:Atchison Public Library Board Meeting
DESCRIPTION:Atchison Public Library Board of Directors meets every Fourth Monday of each month. This meeting is open to the public.
URL:https://www.atchisonlibrary.org/event/atchison-public-library-board-meeting-25/
LOCATION:401 Kansas Ave\, Atchison\, KS 66002\, USA
CATEGORIES:Atchison Library
END:VEVENT
END:VCALENDAR