BEGIN:VCALENDAR
VERSION:2.0
PRODID:-//Atchison Public Library - ECPv6.15.20//NONSGML v1.0//EN
CALSCALE:GREGORIAN
METHOD:PUBLISH
X-ORIGINAL-URL:https://www.atchisonlibrary.org
X-WR-CALDESC:Events for Atchison Public Library
REFRESH-INTERVAL;VALUE=DURATION:PT1H
X-Robots-Tag:noindex
X-PUBLISHED-TTL:PT1H
BEGIN:VTIMEZONE
TZID:America/Chicago
BEGIN:DAYLIGHT
TZOFFSETFROM:-0600
TZOFFSETTO:-0500
TZNAME:CDT
DTSTART:20240310T080000
END:DAYLIGHT
BEGIN:STANDARD
TZOFFSETFROM:-0500
TZOFFSETTO:-0600
TZNAME:CST
DTSTART:20241103T070000
END:STANDARD
BEGIN:DAYLIGHT
TZOFFSETFROM:-0600
TZOFFSETTO:-0500
TZNAME:CDT
DTSTART:20250309T080000
END:DAYLIGHT
BEGIN:STANDARD
TZOFFSETFROM:-0500
TZOFFSETTO:-0600
TZNAME:CST
DTSTART:20251102T070000
END:STANDARD
BEGIN:DAYLIGHT
TZOFFSETFROM:-0600
TZOFFSETTO:-0500
TZNAME:CDT
DTSTART:20260308T080000
END:DAYLIGHT
BEGIN:STANDARD
TZOFFSETFROM:-0500
TZOFFSETTO:-0600
TZNAME:CST
DTSTART:20261101T070000
END:STANDARD
END:VTIMEZONE
BEGIN:VEVENT
DTSTART;TZID=America/Chicago:20250922T180000
DTEND;TZID=America/Chicago:20250922T190000
DTSTAMP:20260425T071950
CREATED:20240423T013015Z
LAST-MODIFIED:20250418T170519Z
UID:350-1758564000-1758567600@www.atchisonlibrary.org
SUMMARY:Atchison Public Library Board Meeting
DESCRIPTION:Atchison Public Library Board of Directors meets every Fourth Monday of each month. This meeting is open to the public.
URL:https://www.atchisonlibrary.org/event/atchison-public-library-board-meeting-41/
LOCATION:401 Kansas Ave\, Atchison\, KS\, United States
CATEGORIES:Atchison Library
END:VEVENT
BEGIN:VEVENT
DTSTART;TZID=America/Chicago:20250922T190000
DTEND;TZID=America/Chicago:20250922T200000
DTSTAMP:20260425T071950
CREATED:20240411T205259Z
LAST-MODIFIED:20240422T004548Z
UID:189-1758567600-1758571200@www.atchisonlibrary.org
SUMMARY:Atchison Public Library Board Meeting
DESCRIPTION:Atchison Public Library Board of Directors meets every Fourth Monday of each month. This meeting is open to the public.
URL:https://www.atchisonlibrary.org/event/atchison-public-library-board-meeting-18/
LOCATION:401 Kansas Ave\, Atchison\, KS 66002\, USA
CATEGORIES:Atchison Library
END:VEVENT
END:VCALENDAR