BEGIN:VCALENDAR
VERSION:2.0
PRODID:-//Atchison Public Library - ECPv6.15.20//NONSGML v1.0//EN
CALSCALE:GREGORIAN
METHOD:PUBLISH
X-WR-CALNAME:Atchison Public Library
X-ORIGINAL-URL:https://www.atchisonlibrary.org
X-WR-CALDESC:Events for Atchison Public Library
REFRESH-INTERVAL;VALUE=DURATION:PT1H
X-Robots-Tag:noindex
X-PUBLISHED-TTL:PT1H
BEGIN:VTIMEZONE
TZID:America/Chicago
BEGIN:DAYLIGHT
TZOFFSETFROM:-0600
TZOFFSETTO:-0500
TZNAME:CDT
DTSTART:20250309T080000
END:DAYLIGHT
BEGIN:STANDARD
TZOFFSETFROM:-0500
TZOFFSETTO:-0600
TZNAME:CST
DTSTART:20251102T070000
END:STANDARD
BEGIN:DAYLIGHT
TZOFFSETFROM:-0600
TZOFFSETTO:-0500
TZNAME:CDT
DTSTART:20260308T080000
END:DAYLIGHT
BEGIN:STANDARD
TZOFFSETFROM:-0500
TZOFFSETTO:-0600
TZNAME:CST
DTSTART:20261101T070000
END:STANDARD
BEGIN:DAYLIGHT
TZOFFSETFROM:-0600
TZOFFSETTO:-0500
TZNAME:CDT
DTSTART:20270314T080000
END:DAYLIGHT
BEGIN:STANDARD
TZOFFSETFROM:-0500
TZOFFSETTO:-0600
TZNAME:CST
DTSTART:20271107T070000
END:STANDARD
END:VTIMEZONE
BEGIN:VEVENT
DTSTART;TZID=America/Chicago:20260602T100000
DTEND;TZID=America/Chicago:20260602T120000
DTSTAMP:20260424T202650
CREATED:20240602T175010Z
LAST-MODIFIED:20250418T170522Z
UID:1149-1780394400-1780401600@www.atchisonlibrary.org
SUMMARY:Genealogy Meets For Assistance
DESCRIPTION:Connect with members of our Genealogy Team for assistance.
URL:https://www.atchisonlibrary.org/event/genealogy-meets-for-assistance-111/
LOCATION:401 Kansas Ave\, Atchison\, KS\, United States
CATEGORIES:Atchison Library
END:VEVENT
BEGIN:VEVENT
DTSTART;TZID=America/Chicago:20260609T100000
DTEND;TZID=America/Chicago:20260609T120000
DTSTAMP:20260424T202650
CREATED:20240609T180826Z
LAST-MODIFIED:20250418T170522Z
UID:1189-1780999200-1781006400@www.atchisonlibrary.org
SUMMARY:Genealogy Meets For Assistance
DESCRIPTION:Connect with members of our Genealogy Team for assistance.
URL:https://www.atchisonlibrary.org/event/genealogy-meets-for-assistance-112/
LOCATION:401 Kansas Ave\, Atchison\, KS\, United States
CATEGORIES:Atchison Library
END:VEVENT
BEGIN:VEVENT
DTSTART;TZID=America/Chicago:20260616T100000
DTEND;TZID=America/Chicago:20260616T120000
DTSTAMP:20260424T202650
CREATED:20240616T170517Z
LAST-MODIFIED:20250418T170523Z
UID:1221-1781604000-1781611200@www.atchisonlibrary.org
SUMMARY:Genealogy Meets For Assistance
DESCRIPTION:Connect with members of our Genealogy Team for assistance.
URL:https://www.atchisonlibrary.org/event/genealogy-meets-for-assistance-113/
LOCATION:401 Kansas Ave\, Atchison\, KS\, United States
CATEGORIES:Atchison Library
END:VEVENT
BEGIN:VEVENT
DTSTART;TZID=America/Chicago:20260622T180000
DTEND;TZID=America/Chicago:20260622T190000
DTSTAMP:20260424T202650
CREATED:20240622T173534Z
LAST-MODIFIED:20250418T170523Z
UID:1253-1782151200-1782154800@www.atchisonlibrary.org
SUMMARY:Atchison Public Library Board Meeting
DESCRIPTION:Atchison Public Library Board of Directors meets every Fourth Monday of each month. This meeting is open to the public.
URL:https://www.atchisonlibrary.org/event/atchison-public-library-board-meeting-50/
LOCATION:401 Kansas Ave\, Atchison\, KS\, United States
CATEGORIES:Atchison Library
END:VEVENT
BEGIN:VEVENT
DTSTART;TZID=America/Chicago:20260623T100000
DTEND;TZID=America/Chicago:20260623T120000
DTSTAMP:20260424T202650
CREATED:20240623T173533Z
LAST-MODIFIED:20250418T170523Z
UID:1259-1782208800-1782216000@www.atchisonlibrary.org
SUMMARY:Genealogy Meets For Assistance
DESCRIPTION:Connect with members of our Genealogy Team for assistance.
URL:https://www.atchisonlibrary.org/event/genealogy-meets-for-assistance-114/
LOCATION:401 Kansas Ave\, Atchison\, KS\, United States
CATEGORIES:Atchison Library
END:VEVENT
BEGIN:VEVENT
DTSTART;TZID=America/Chicago:20260630T100000
DTEND;TZID=America/Chicago:20260630T120000
DTSTAMP:20260424T202650
CREATED:20240630T173757Z
LAST-MODIFIED:20250418T170523Z
UID:1324-1782813600-1782820800@www.atchisonlibrary.org
SUMMARY:Genealogy Meets For Assistance
DESCRIPTION:Connect with members of our Genealogy Team for assistance.
URL:https://www.atchisonlibrary.org/event/genealogy-meets-for-assistance-115/
LOCATION:401 Kansas Ave\, Atchison\, KS\, United States
CATEGORIES:Atchison Library
END:VEVENT
END:VCALENDAR